BEGIN:VCALENDAR
VERSION:2.0
PRODID:-//QBurgh - ECPv6.15.20//NONSGML v1.0//EN
CALSCALE:GREGORIAN
METHOD:PUBLISH
X-WR-CALNAME:QBurgh
X-ORIGINAL-URL:https://qburgh.com
X-WR-CALDESC:Events for QBurgh
REFRESH-INTERVAL;VALUE=DURATION:PT1H
X-Robots-Tag:noindex
X-PUBLISHED-TTL:PT1H
BEGIN:VTIMEZONE
TZID:America/New_York
BEGIN:DAYLIGHT
TZOFFSETFROM:-0500
TZOFFSETTO:-0400
TZNAME:EDT
DTSTART:20250309T070000
END:DAYLIGHT
BEGIN:STANDARD
TZOFFSETFROM:-0400
TZOFFSETTO:-0500
TZNAME:EST
DTSTART:20251102T060000
END:STANDARD
BEGIN:DAYLIGHT
TZOFFSETFROM:-0500
TZOFFSETTO:-0400
TZNAME:EDT
DTSTART:20260308T070000
END:DAYLIGHT
BEGIN:STANDARD
TZOFFSETFROM:-0400
TZOFFSETTO:-0500
TZNAME:EST
DTSTART:20261101T060000
END:STANDARD
BEGIN:DAYLIGHT
TZOFFSETFROM:-0500
TZOFFSETTO:-0400
TZNAME:EDT
DTSTART:20270314T070000
END:DAYLIGHT
BEGIN:STANDARD
TZOFFSETFROM:-0400
TZOFFSETTO:-0500
TZNAME:EST
DTSTART:20271107T060000
END:STANDARD
END:VTIMEZONE
BEGIN:VEVENT
DTSTART;TZID=America/New_York:20260418T140000
DTEND;TZID=America/New_York:20260418T170000
DTSTAMP:20260421T211050
CREATED:20260310T005803Z
LAST-MODIFIED:20260313T002318Z
UID:10022012-1776520800-1776531600@qburgh.com
SUMMARY:The Gauntlet – A Kink & Consent Check-In
DESCRIPTION:Pittsburgh\, it’s time. \nWe’re bringing together voices from kink\, ballroom\, queer nightlife\, and sex‑work communities for a powerful conversation on consent\, safety\, and anti‑racism in our scenes. \nJoin us for an afternoon of real talk\, community learning\, and collective accountability featuring:\n• A stacked panel of leaders from leather\, kink\, ballroom\, and sex‑work communities\n• Breakout sessions to deepen the conversation\n• Community safety + DM insights\n• A shared policy commitment to safer\, more inclusive spaces\n• Hybrid access + limited in‑person seating (Eventbrite link coming soon) \nSaturday\, April 18th\, 2–5 PM • Hybrid Event
URL:https://qburgh.com/event/the-gauntlet-a-kink-consent-check-in/
LOCATION:True T Studios – Uptown\, 1632 Forbes Avenue\, Pittsburgh\, PA\, 15219\, United States
ATTACH;FMTTYPE=image/webp:https://qburgh.com/wp-content/uploads/2026/03/gauntlet-april-18.webp
ORGANIZER;CN="True T PGH":MAILTO:info@truetpgh.com
END:VEVENT
BEGIN:VEVENT
DTSTART;TZID=America/New_York:20260414T180000
DTEND;TZID=America/New_York:20260414T200000
DTSTAMP:20260421T211051
CREATED:20260327T004002Z
LAST-MODIFIED:20260327T004002Z
UID:10022124-1776189600-1776196800@qburgh.com
SUMMARY:Kink & Draw
DESCRIPTION:Next up! We’ve got Surya (@suryasour) just in time for spring! Once again we’ll be at True T PGH with your hosts Michael Tikili (@rootednleathernat) and Bearfag (@bearfag). So start sharpening those pencils and dusting off the drawing pads. \nThanks again to @pup_paimon for the flyer!
URL:https://qburgh.com/event/kink-draw-3/
LOCATION:True T Studios – Uptown\, 1632 Forbes Avenue\, Pittsburgh\, PA\, 15219\, United States
ATTACH;FMTTYPE=image/jpeg:https://qburgh.com/wp-content/uploads/2026/03/kink-draw-april-14.jpg
ORGANIZER;CN="True T PGH":MAILTO:info@truetpgh.com
END:VEVENT
BEGIN:VEVENT
DTSTART;TZID=America/New_York:20260325T190000
DTEND;TZID=America/New_York:20260325T203000
DTSTAMP:20260421T211051
CREATED:20260310T004703Z
LAST-MODIFIED:20260310T004703Z
UID:10022001-1774465200-1774470600@qburgh.com
SUMMARY:Vogue 101 Workshop
DESCRIPTION:Kicking back off this Wednesday at the studio\, Vogue 101 Workshops! Led by Pittsburgh premiere big-boys performer\, Kiss Ebony (@g.i.m_theartist)\, Wednesdays in March\, 7:00-8:30pm. \nSame safe vibe\, new energy. Mentorship\, feedback\, and a little friendly competition. PWYC admission.
URL:https://qburgh.com/event/vogue-101-workshop/2026-03-25/
LOCATION:True T Studios – Uptown\, 1632 Forbes Avenue\, Pittsburgh\, PA\, 15219\, United States
ATTACH;FMTTYPE=image/jpeg:https://qburgh.com/wp-content/uploads/2026/03/vogue-101-march.jpg
ORGANIZER;CN="True T PGH":MAILTO:info@truetpgh.com
END:VEVENT
BEGIN:VEVENT
DTSTART;TZID=America/New_York:20260325T180000
DTEND;TZID=America/New_York:20260325T190000
DTSTAMP:20260421T211051
CREATED:20260310T005357Z
LAST-MODIFIED:20260310T005419Z
UID:10022011-1774461600-1774465200@qburgh.com
SUMMARY:Stretching 101
DESCRIPTION:Mobility and breath work to prep your body for dance\, runway\, and everyday life.  \nEvery Wednesday\, we will be at True T from 6-7pm learning to stretch and choreography. Be sure to invite a friend! \nBeginner-friendly; PWYC admission.
URL:https://qburgh.com/event/104894/2026-03-25/
LOCATION:True T Studios – Uptown\, 1632 Forbes Avenue\, Pittsburgh\, PA\, 15219\, United States
ATTACH;FMTTYPE=image/jpeg:https://qburgh.com/wp-content/uploads/2026/03/march-stretch-shop.jpg
ORGANIZER;CN="True T PGH":MAILTO:info@truetpgh.com
END:VEVENT
END:VCALENDAR