BEGIN:VCALENDAR
VERSION:2.0
PRODID:-//QBurgh - ECPv6.15.20//NONSGML v1.0//EN
CALSCALE:GREGORIAN
METHOD:PUBLISH
X-WR-CALNAME:QBurgh
X-ORIGINAL-URL:https://qburgh.com
X-WR-CALDESC:Events for QBurgh
REFRESH-INTERVAL;VALUE=DURATION:PT1H
X-Robots-Tag:noindex
X-PUBLISHED-TTL:PT1H
BEGIN:VTIMEZONE
TZID:America/New_York
BEGIN:DAYLIGHT
TZOFFSETFROM:-0500
TZOFFSETTO:-0400
TZNAME:EDT
DTSTART:20250309T070000
END:DAYLIGHT
BEGIN:STANDARD
TZOFFSETFROM:-0400
TZOFFSETTO:-0500
TZNAME:EST
DTSTART:20251102T060000
END:STANDARD
BEGIN:DAYLIGHT
TZOFFSETFROM:-0500
TZOFFSETTO:-0400
TZNAME:EDT
DTSTART:20260308T070000
END:DAYLIGHT
BEGIN:STANDARD
TZOFFSETFROM:-0400
TZOFFSETTO:-0500
TZNAME:EST
DTSTART:20261101T060000
END:STANDARD
BEGIN:DAYLIGHT
TZOFFSETFROM:-0500
TZOFFSETTO:-0400
TZNAME:EDT
DTSTART:20270314T070000
END:DAYLIGHT
BEGIN:STANDARD
TZOFFSETFROM:-0400
TZOFFSETTO:-0500
TZNAME:EST
DTSTART:20271107T060000
END:STANDARD
END:VTIMEZONE
BEGIN:VEVENT
DTSTART;TZID=America/New_York:20260712T140000
DTEND;TZID=America/New_York:20260712T151500
DTSTAMP:20260421T213254
CREATED:20260105T014542Z
LAST-MODIFIED:20260105T015338Z
UID:10021150-1783864800-1783869300@qburgh.com
SUMMARY:SMART Recovery
DESCRIPTION:SMART Recovery (Self-Management and Recovery Training) is an international non-profit organization that provides assistance to individuals seeking abstinence from addiction behaviors. Meetings are every Sunday: 2:00pm – 3:15pm at The CENTER on Strawberry. \nContact Jaden for more info: jraerhys@wcgsa.org
URL:https://qburgh.com/event/smart-recovery/2026-07-12/
LOCATION:The Center on Strawberry\, 59 E Strawberry Ave\, Washington\, PA\, 15301\, United States
ORGANIZER;CN="Washington County Gay Straight Alliance%2C Inc. (WCGSA)":MAILTO:info@wcgsa.org
END:VEVENT
BEGIN:VEVENT
DTSTART;TZID=America/New_York:20260715T180000
DTEND;TZID=America/New_York:20260715T203000
DTSTAMP:20260421T213254
CREATED:20260105T014110Z
LAST-MODIFIED:20260105T014144Z
UID:10021083-1784138400-1784147400@qburgh.com
SUMMARY:WCGSA Trans Peer Group
DESCRIPTION:A support group for Trans and Non-Binary individuals to share knowledge\, experience\, emotional\, social and practical thoughts with others. Meetings are the 3rd Wednesday of every month from 6:00pm – 8:30pm \nFor more info\, contact jraerhys@wcgsa.org
URL:https://qburgh.com/event/wcgsa-trans-peer-group/2026-07-15/
LOCATION:The Center on Strawberry\, 59 E Strawberry Ave\, Washington\, PA\, 15301\, United States
ORGANIZER;CN="Washington County Gay Straight Alliance%2C Inc. (WCGSA)":MAILTO:info@wcgsa.org
END:VEVENT
BEGIN:VEVENT
DTSTART;TZID=America/New_York:20260716T173000
DTEND;TZID=America/New_York:20260716T203000
DTSTAMP:20260421T213254
CREATED:20260105T015141Z
LAST-MODIFIED:20260105T015253Z
UID:10021128-1784223000-1784233800@qburgh.com
SUMMARY:WCGSA Game Night
DESCRIPTION:Join us for a fun and welcoming Game Night at the CENTER on Strawberry! Gather with friends old and new to enjoy a variety of tabletop games\, from quick and casual card games to epic adventures in Dungeons & Dragons. Whether you’re a seasoned gamer or just curious to try something new\, all are welcome in this inclusive\, friendly space. Bring your creativity\, your competitive spirit\, or just your love of community—there’s a seat at the table for everyone! \nGame Night is every Thursday from 5:30pm to 8:30pm
URL:https://qburgh.com/event/wcgsa-game-night-2/2026-07-16/
LOCATION:The Center on Strawberry\, 59 E Strawberry Ave\, Washington\, PA\, 15301\, United States
ATTACH;FMTTYPE=image/jpeg:https://qburgh.com/wp-content/uploads/2026/01/wcgsa-game-night-thursdays.jpg
ORGANIZER;CN="Washington County Gay Straight Alliance%2C Inc. (WCGSA)":MAILTO:info@wcgsa.org
END:VEVENT
BEGIN:VEVENT
DTSTART;TZID=America/New_York:20260719T140000
DTEND;TZID=America/New_York:20260719T151500
DTSTAMP:20260421T213254
CREATED:20260105T014542Z
LAST-MODIFIED:20260105T015338Z
UID:10021151-1784469600-1784474100@qburgh.com
SUMMARY:SMART Recovery
DESCRIPTION:SMART Recovery (Self-Management and Recovery Training) is an international non-profit organization that provides assistance to individuals seeking abstinence from addiction behaviors. Meetings are every Sunday: 2:00pm – 3:15pm at The CENTER on Strawberry. \nContact Jaden for more info: jraerhys@wcgsa.org
URL:https://qburgh.com/event/smart-recovery/2026-07-19/
LOCATION:The Center on Strawberry\, 59 E Strawberry Ave\, Washington\, PA\, 15301\, United States
ORGANIZER;CN="Washington County Gay Straight Alliance%2C Inc. (WCGSA)":MAILTO:info@wcgsa.org
END:VEVENT
BEGIN:VEVENT
DTSTART;TZID=America/New_York:20260723T173000
DTEND;TZID=America/New_York:20260723T203000
DTSTAMP:20260421T213254
CREATED:20260105T015141Z
LAST-MODIFIED:20260105T015253Z
UID:10021129-1784827800-1784838600@qburgh.com
SUMMARY:WCGSA Game Night
DESCRIPTION:Join us for a fun and welcoming Game Night at the CENTER on Strawberry! Gather with friends old and new to enjoy a variety of tabletop games\, from quick and casual card games to epic adventures in Dungeons & Dragons. Whether you’re a seasoned gamer or just curious to try something new\, all are welcome in this inclusive\, friendly space. Bring your creativity\, your competitive spirit\, or just your love of community—there’s a seat at the table for everyone! \nGame Night is every Thursday from 5:30pm to 8:30pm
URL:https://qburgh.com/event/wcgsa-game-night-2/2026-07-23/
LOCATION:The Center on Strawberry\, 59 E Strawberry Ave\, Washington\, PA\, 15301\, United States
ATTACH;FMTTYPE=image/jpeg:https://qburgh.com/wp-content/uploads/2026/01/wcgsa-game-night-thursdays.jpg
ORGANIZER;CN="Washington County Gay Straight Alliance%2C Inc. (WCGSA)":MAILTO:info@wcgsa.org
END:VEVENT
BEGIN:VEVENT
DTSTART;TZID=America/New_York:20260726T140000
DTEND;TZID=America/New_York:20260726T151500
DTSTAMP:20260421T213254
CREATED:20260105T014542Z
LAST-MODIFIED:20260105T015338Z
UID:10021152-1785074400-1785078900@qburgh.com
SUMMARY:SMART Recovery
DESCRIPTION:SMART Recovery (Self-Management and Recovery Training) is an international non-profit organization that provides assistance to individuals seeking abstinence from addiction behaviors. Meetings are every Sunday: 2:00pm – 3:15pm at The CENTER on Strawberry. \nContact Jaden for more info: jraerhys@wcgsa.org
URL:https://qburgh.com/event/smart-recovery/2026-07-26/
LOCATION:The Center on Strawberry\, 59 E Strawberry Ave\, Washington\, PA\, 15301\, United States
ORGANIZER;CN="Washington County Gay Straight Alliance%2C Inc. (WCGSA)":MAILTO:info@wcgsa.org
END:VEVENT
BEGIN:VEVENT
DTSTART;TZID=America/New_York:20260730T173000
DTEND;TZID=America/New_York:20260730T203000
DTSTAMP:20260421T213254
CREATED:20260105T015141Z
LAST-MODIFIED:20260105T015253Z
UID:10021130-1785432600-1785443400@qburgh.com
SUMMARY:WCGSA Game Night
DESCRIPTION:Join us for a fun and welcoming Game Night at the CENTER on Strawberry! Gather with friends old and new to enjoy a variety of tabletop games\, from quick and casual card games to epic adventures in Dungeons & Dragons. Whether you’re a seasoned gamer or just curious to try something new\, all are welcome in this inclusive\, friendly space. Bring your creativity\, your competitive spirit\, or just your love of community—there’s a seat at the table for everyone! \nGame Night is every Thursday from 5:30pm to 8:30pm
URL:https://qburgh.com/event/wcgsa-game-night-2/2026-07-30/
LOCATION:The Center on Strawberry\, 59 E Strawberry Ave\, Washington\, PA\, 15301\, United States
ATTACH;FMTTYPE=image/jpeg:https://qburgh.com/wp-content/uploads/2026/01/wcgsa-game-night-thursdays.jpg
ORGANIZER;CN="Washington County Gay Straight Alliance%2C Inc. (WCGSA)":MAILTO:info@wcgsa.org
END:VEVENT
BEGIN:VEVENT
DTSTART;TZID=America/New_York:20260802T140000
DTEND;TZID=America/New_York:20260802T151500
DTSTAMP:20260421T213254
CREATED:20260105T014542Z
LAST-MODIFIED:20260105T015338Z
UID:10021153-1785679200-1785683700@qburgh.com
SUMMARY:SMART Recovery
DESCRIPTION:SMART Recovery (Self-Management and Recovery Training) is an international non-profit organization that provides assistance to individuals seeking abstinence from addiction behaviors. Meetings are every Sunday: 2:00pm – 3:15pm at The CENTER on Strawberry. \nContact Jaden for more info: jraerhys@wcgsa.org
URL:https://qburgh.com/event/smart-recovery/2026-08-02/
LOCATION:The Center on Strawberry\, 59 E Strawberry Ave\, Washington\, PA\, 15301\, United States
ORGANIZER;CN="Washington County Gay Straight Alliance%2C Inc. (WCGSA)":MAILTO:info@wcgsa.org
END:VEVENT
BEGIN:VEVENT
DTSTART;TZID=America/New_York:20260806T173000
DTEND;TZID=America/New_York:20260806T203000
DTSTAMP:20260421T213254
CREATED:20260105T015141Z
LAST-MODIFIED:20260105T015253Z
UID:10021131-1786037400-1786048200@qburgh.com
SUMMARY:WCGSA Game Night
DESCRIPTION:Join us for a fun and welcoming Game Night at the CENTER on Strawberry! Gather with friends old and new to enjoy a variety of tabletop games\, from quick and casual card games to epic adventures in Dungeons & Dragons. Whether you’re a seasoned gamer or just curious to try something new\, all are welcome in this inclusive\, friendly space. Bring your creativity\, your competitive spirit\, or just your love of community—there’s a seat at the table for everyone! \nGame Night is every Thursday from 5:30pm to 8:30pm
URL:https://qburgh.com/event/wcgsa-game-night-2/2026-08-06/
LOCATION:The Center on Strawberry\, 59 E Strawberry Ave\, Washington\, PA\, 15301\, United States
ATTACH;FMTTYPE=image/jpeg:https://qburgh.com/wp-content/uploads/2026/01/wcgsa-game-night-thursdays.jpg
ORGANIZER;CN="Washington County Gay Straight Alliance%2C Inc. (WCGSA)":MAILTO:info@wcgsa.org
END:VEVENT
BEGIN:VEVENT
DTSTART;TZID=America/New_York:20260809T140000
DTEND;TZID=America/New_York:20260809T151500
DTSTAMP:20260421T213254
CREATED:20260105T014542Z
LAST-MODIFIED:20260105T015338Z
UID:10021154-1786284000-1786288500@qburgh.com
SUMMARY:SMART Recovery
DESCRIPTION:SMART Recovery (Self-Management and Recovery Training) is an international non-profit organization that provides assistance to individuals seeking abstinence from addiction behaviors. Meetings are every Sunday: 2:00pm – 3:15pm at The CENTER on Strawberry. \nContact Jaden for more info: jraerhys@wcgsa.org
URL:https://qburgh.com/event/smart-recovery/2026-08-09/
LOCATION:The Center on Strawberry\, 59 E Strawberry Ave\, Washington\, PA\, 15301\, United States
ORGANIZER;CN="Washington County Gay Straight Alliance%2C Inc. (WCGSA)":MAILTO:info@wcgsa.org
END:VEVENT
BEGIN:VEVENT
DTSTART;TZID=America/New_York:20260813T173000
DTEND;TZID=America/New_York:20260813T203000
DTSTAMP:20260421T213254
CREATED:20260105T015141Z
LAST-MODIFIED:20260105T015253Z
UID:10021132-1786642200-1786653000@qburgh.com
SUMMARY:WCGSA Game Night
DESCRIPTION:Join us for a fun and welcoming Game Night at the CENTER on Strawberry! Gather with friends old and new to enjoy a variety of tabletop games\, from quick and casual card games to epic adventures in Dungeons & Dragons. Whether you’re a seasoned gamer or just curious to try something new\, all are welcome in this inclusive\, friendly space. Bring your creativity\, your competitive spirit\, or just your love of community—there’s a seat at the table for everyone! \nGame Night is every Thursday from 5:30pm to 8:30pm
URL:https://qburgh.com/event/wcgsa-game-night-2/2026-08-13/
LOCATION:The Center on Strawberry\, 59 E Strawberry Ave\, Washington\, PA\, 15301\, United States
ATTACH;FMTTYPE=image/jpeg:https://qburgh.com/wp-content/uploads/2026/01/wcgsa-game-night-thursdays.jpg
ORGANIZER;CN="Washington County Gay Straight Alliance%2C Inc. (WCGSA)":MAILTO:info@wcgsa.org
END:VEVENT
BEGIN:VEVENT
DTSTART;TZID=America/New_York:20260816T140000
DTEND;TZID=America/New_York:20260816T151500
DTSTAMP:20260421T213254
CREATED:20260105T014542Z
LAST-MODIFIED:20260105T015338Z
UID:10021155-1786888800-1786893300@qburgh.com
SUMMARY:SMART Recovery
DESCRIPTION:SMART Recovery (Self-Management and Recovery Training) is an international non-profit organization that provides assistance to individuals seeking abstinence from addiction behaviors. Meetings are every Sunday: 2:00pm – 3:15pm at The CENTER on Strawberry. \nContact Jaden for more info: jraerhys@wcgsa.org
URL:https://qburgh.com/event/smart-recovery/2026-08-16/
LOCATION:The Center on Strawberry\, 59 E Strawberry Ave\, Washington\, PA\, 15301\, United States
ORGANIZER;CN="Washington County Gay Straight Alliance%2C Inc. (WCGSA)":MAILTO:info@wcgsa.org
END:VEVENT
BEGIN:VEVENT
DTSTART;TZID=America/New_York:20260819T180000
DTEND;TZID=America/New_York:20260819T203000
DTSTAMP:20260421T213254
CREATED:20260105T014110Z
LAST-MODIFIED:20260105T014144Z
UID:10021084-1787162400-1787171400@qburgh.com
SUMMARY:WCGSA Trans Peer Group
DESCRIPTION:A support group for Trans and Non-Binary individuals to share knowledge\, experience\, emotional\, social and practical thoughts with others. Meetings are the 3rd Wednesday of every month from 6:00pm – 8:30pm \nFor more info\, contact jraerhys@wcgsa.org
URL:https://qburgh.com/event/wcgsa-trans-peer-group/2026-08-19/
LOCATION:The Center on Strawberry\, 59 E Strawberry Ave\, Washington\, PA\, 15301\, United States
ORGANIZER;CN="Washington County Gay Straight Alliance%2C Inc. (WCGSA)":MAILTO:info@wcgsa.org
END:VEVENT
BEGIN:VEVENT
DTSTART;TZID=America/New_York:20260820T173000
DTEND;TZID=America/New_York:20260820T203000
DTSTAMP:20260421T213254
CREATED:20260105T015141Z
LAST-MODIFIED:20260105T015253Z
UID:10021133-1787247000-1787257800@qburgh.com
SUMMARY:WCGSA Game Night
DESCRIPTION:Join us for a fun and welcoming Game Night at the CENTER on Strawberry! Gather with friends old and new to enjoy a variety of tabletop games\, from quick and casual card games to epic adventures in Dungeons & Dragons. Whether you’re a seasoned gamer or just curious to try something new\, all are welcome in this inclusive\, friendly space. Bring your creativity\, your competitive spirit\, or just your love of community—there’s a seat at the table for everyone! \nGame Night is every Thursday from 5:30pm to 8:30pm
URL:https://qburgh.com/event/wcgsa-game-night-2/2026-08-20/
LOCATION:The Center on Strawberry\, 59 E Strawberry Ave\, Washington\, PA\, 15301\, United States
ATTACH;FMTTYPE=image/jpeg:https://qburgh.com/wp-content/uploads/2026/01/wcgsa-game-night-thursdays.jpg
ORGANIZER;CN="Washington County Gay Straight Alliance%2C Inc. (WCGSA)":MAILTO:info@wcgsa.org
END:VEVENT
BEGIN:VEVENT
DTSTART;TZID=America/New_York:20260823T140000
DTEND;TZID=America/New_York:20260823T151500
DTSTAMP:20260421T213254
CREATED:20260105T014542Z
LAST-MODIFIED:20260105T015338Z
UID:10021156-1787493600-1787498100@qburgh.com
SUMMARY:SMART Recovery
DESCRIPTION:SMART Recovery (Self-Management and Recovery Training) is an international non-profit organization that provides assistance to individuals seeking abstinence from addiction behaviors. Meetings are every Sunday: 2:00pm – 3:15pm at The CENTER on Strawberry. \nContact Jaden for more info: jraerhys@wcgsa.org
URL:https://qburgh.com/event/smart-recovery/2026-08-23/
LOCATION:The Center on Strawberry\, 59 E Strawberry Ave\, Washington\, PA\, 15301\, United States
ORGANIZER;CN="Washington County Gay Straight Alliance%2C Inc. (WCGSA)":MAILTO:info@wcgsa.org
END:VEVENT
BEGIN:VEVENT
DTSTART;TZID=America/New_York:20260827T173000
DTEND;TZID=America/New_York:20260827T203000
DTSTAMP:20260421T213254
CREATED:20260105T015141Z
LAST-MODIFIED:20260105T015253Z
UID:10021134-1787851800-1787862600@qburgh.com
SUMMARY:WCGSA Game Night
DESCRIPTION:Join us for a fun and welcoming Game Night at the CENTER on Strawberry! Gather with friends old and new to enjoy a variety of tabletop games\, from quick and casual card games to epic adventures in Dungeons & Dragons. Whether you’re a seasoned gamer or just curious to try something new\, all are welcome in this inclusive\, friendly space. Bring your creativity\, your competitive spirit\, or just your love of community—there’s a seat at the table for everyone! \nGame Night is every Thursday from 5:30pm to 8:30pm
URL:https://qburgh.com/event/wcgsa-game-night-2/2026-08-27/
LOCATION:The Center on Strawberry\, 59 E Strawberry Ave\, Washington\, PA\, 15301\, United States
ATTACH;FMTTYPE=image/jpeg:https://qburgh.com/wp-content/uploads/2026/01/wcgsa-game-night-thursdays.jpg
ORGANIZER;CN="Washington County Gay Straight Alliance%2C Inc. (WCGSA)":MAILTO:info@wcgsa.org
END:VEVENT
BEGIN:VEVENT
DTSTART;TZID=America/New_York:20260916T180000
DTEND;TZID=America/New_York:20260916T203000
DTSTAMP:20260421T213254
CREATED:20260105T014110Z
LAST-MODIFIED:20260105T014144Z
UID:10021085-1789581600-1789590600@qburgh.com
SUMMARY:WCGSA Trans Peer Group
DESCRIPTION:A support group for Trans and Non-Binary individuals to share knowledge\, experience\, emotional\, social and practical thoughts with others. Meetings are the 3rd Wednesday of every month from 6:00pm – 8:30pm \nFor more info\, contact jraerhys@wcgsa.org
URL:https://qburgh.com/event/wcgsa-trans-peer-group/2026-09-16/
LOCATION:The Center on Strawberry\, 59 E Strawberry Ave\, Washington\, PA\, 15301\, United States
ORGANIZER;CN="Washington County Gay Straight Alliance%2C Inc. (WCGSA)":MAILTO:info@wcgsa.org
END:VEVENT
BEGIN:VEVENT
DTSTART;TZID=America/New_York:20261021T180000
DTEND;TZID=America/New_York:20261021T203000
DTSTAMP:20260421T213254
CREATED:20260105T014110Z
LAST-MODIFIED:20260105T014144Z
UID:10021086-1792605600-1792614600@qburgh.com
SUMMARY:WCGSA Trans Peer Group
DESCRIPTION:A support group for Trans and Non-Binary individuals to share knowledge\, experience\, emotional\, social and practical thoughts with others. Meetings are the 3rd Wednesday of every month from 6:00pm – 8:30pm \nFor more info\, contact jraerhys@wcgsa.org
URL:https://qburgh.com/event/wcgsa-trans-peer-group/2026-10-21/
LOCATION:The Center on Strawberry\, 59 E Strawberry Ave\, Washington\, PA\, 15301\, United States
ORGANIZER;CN="Washington County Gay Straight Alliance%2C Inc. (WCGSA)":MAILTO:info@wcgsa.org
END:VEVENT
BEGIN:VEVENT
DTSTART;TZID=America/New_York:20261118T180000
DTEND;TZID=America/New_York:20261118T203000
DTSTAMP:20260421T213254
CREATED:20260105T014110Z
LAST-MODIFIED:20260105T014144Z
UID:10021087-1795024800-1795033800@qburgh.com
SUMMARY:WCGSA Trans Peer Group
DESCRIPTION:A support group for Trans and Non-Binary individuals to share knowledge\, experience\, emotional\, social and practical thoughts with others. Meetings are the 3rd Wednesday of every month from 6:00pm – 8:30pm \nFor more info\, contact jraerhys@wcgsa.org
URL:https://qburgh.com/event/wcgsa-trans-peer-group/2026-11-18/
LOCATION:The Center on Strawberry\, 59 E Strawberry Ave\, Washington\, PA\, 15301\, United States
ORGANIZER;CN="Washington County Gay Straight Alliance%2C Inc. (WCGSA)":MAILTO:info@wcgsa.org
END:VEVENT
BEGIN:VEVENT
DTSTART;TZID=America/New_York:20261216T180000
DTEND;TZID=America/New_York:20261216T203000
DTSTAMP:20260421T213254
CREATED:20260105T014110Z
LAST-MODIFIED:20260105T014144Z
UID:10021088-1797444000-1797453000@qburgh.com
SUMMARY:WCGSA Trans Peer Group
DESCRIPTION:A support group for Trans and Non-Binary individuals to share knowledge\, experience\, emotional\, social and practical thoughts with others. Meetings are the 3rd Wednesday of every month from 6:00pm – 8:30pm \nFor more info\, contact jraerhys@wcgsa.org
URL:https://qburgh.com/event/wcgsa-trans-peer-group/2026-12-16/
LOCATION:The Center on Strawberry\, 59 E Strawberry Ave\, Washington\, PA\, 15301\, United States
ORGANIZER;CN="Washington County Gay Straight Alliance%2C Inc. (WCGSA)":MAILTO:info@wcgsa.org
END:VEVENT
END:VCALENDAR