BEGIN:VCALENDAR
VERSION:2.0
PRODID:-//QBurgh - ECPv6.15.20//NONSGML v1.0//EN
CALSCALE:GREGORIAN
METHOD:PUBLISH
X-WR-CALNAME:QBurgh
X-ORIGINAL-URL:https://qburgh.com
X-WR-CALDESC:Events for QBurgh
REFRESH-INTERVAL;VALUE=DURATION:PT1H
X-Robots-Tag:noindex
X-PUBLISHED-TTL:PT1H
BEGIN:VTIMEZONE
TZID:America/New_York
BEGIN:DAYLIGHT
TZOFFSETFROM:-0500
TZOFFSETTO:-0400
TZNAME:EDT
DTSTART:20250309T070000
END:DAYLIGHT
BEGIN:STANDARD
TZOFFSETFROM:-0400
TZOFFSETTO:-0500
TZNAME:EST
DTSTART:20251102T060000
END:STANDARD
BEGIN:DAYLIGHT
TZOFFSETFROM:-0500
TZOFFSETTO:-0400
TZNAME:EDT
DTSTART:20260308T070000
END:DAYLIGHT
BEGIN:STANDARD
TZOFFSETFROM:-0400
TZOFFSETTO:-0500
TZNAME:EST
DTSTART:20261101T060000
END:STANDARD
BEGIN:DAYLIGHT
TZOFFSETFROM:-0500
TZOFFSETTO:-0400
TZNAME:EDT
DTSTART:20270314T070000
END:DAYLIGHT
BEGIN:STANDARD
TZOFFSETFROM:-0400
TZOFFSETTO:-0500
TZNAME:EST
DTSTART:20271107T060000
END:STANDARD
END:VTIMEZONE
BEGIN:VEVENT
DTSTART;TZID=America/New_York:20260418T110000
DTEND;TZID=America/New_York:20260418T140000
DTSTAMP:20260421T210125
CREATED:20260327T002147Z
LAST-MODIFIED:20260327T002147Z
UID:10022120-1776510000-1776520800@qburgh.com
SUMMARY:Drag Brunch with Jasmine Kennedie (RuPaul’s Drag Race) & Aurora Gozmic (Dragula)
DESCRIPTION:S&S Productions brings you Drag Brunch with Jasmine Kennedie (RuPaul’s Drag Race) & Aurora Gozmic (Dragula) on Saturday\, April 18th in The Cellar! \nDoors at 11am\nShow at 12pm \n$20 in advance\n$25 day of show\n+$10 meet & greet add-on \n21+
URL:https://qburgh.com/event/drag-brunch-with-jasmine-kennedie-rupauls-drag-race-aurora-gozmic-dragula/
LOCATION:Pittsburgh Winery\, 2809 Penn Avenue\, Pittsburgh\, PA\, 15222\, United States
ATTACH;FMTTYPE=image/jpeg:https://qburgh.com/wp-content/uploads/2026/03/ss-pittsburgh-winery-april-18.jpg
ORGANIZER;CN="S & S Productions":MAILTO:ssproductionspgh@gmail.com
END:VEVENT
END:VCALENDAR