BEGIN:VCALENDAR
VERSION:2.0
PRODID:-//QBurgh - ECPv6.15.20//NONSGML v1.0//EN
CALSCALE:GREGORIAN
METHOD:PUBLISH
X-WR-CALNAME:QBurgh
X-ORIGINAL-URL:https://qburgh.com
X-WR-CALDESC:Events for QBurgh
REFRESH-INTERVAL;VALUE=DURATION:PT1H
X-Robots-Tag:noindex
X-PUBLISHED-TTL:PT1H
BEGIN:VTIMEZONE
TZID:America/New_York
BEGIN:DAYLIGHT
TZOFFSETFROM:-0500
TZOFFSETTO:-0400
TZNAME:EDT
DTSTART:20250309T070000
END:DAYLIGHT
BEGIN:STANDARD
TZOFFSETFROM:-0400
TZOFFSETTO:-0500
TZNAME:EST
DTSTART:20251102T060000
END:STANDARD
BEGIN:DAYLIGHT
TZOFFSETFROM:-0500
TZOFFSETTO:-0400
TZNAME:EDT
DTSTART:20260308T070000
END:DAYLIGHT
BEGIN:STANDARD
TZOFFSETFROM:-0400
TZOFFSETTO:-0500
TZNAME:EST
DTSTART:20261101T060000
END:STANDARD
BEGIN:DAYLIGHT
TZOFFSETFROM:-0500
TZOFFSETTO:-0400
TZNAME:EDT
DTSTART:20270314T070000
END:DAYLIGHT
BEGIN:STANDARD
TZOFFSETFROM:-0400
TZOFFSETTO:-0500
TZNAME:EST
DTSTART:20271107T060000
END:STANDARD
END:VTIMEZONE
BEGIN:VEVENT
DTSTART;TZID=America/New_York:20260419T190000
DTEND;TZID=America/New_York:20260419T220000
DTSTAMP:20260421T211128
CREATED:20260405T182341Z
LAST-MODIFIED:20260405T182341Z
UID:10022241-1776625200-1776636000@qburgh.com
SUMMARY:Death Becomes Her: Rooftop Movie Night & Drag Show
DESCRIPTION:On Sunday\, April 19th\, join Indigo Sparks and Evon Dior Michelle for a fabulous movie night at New Amsterdam! \nFeaturing “The Potion\,” a glittery\, glowing cocktail (or mocktail) formulated to give you life everlasting\, sponsored by our friends at Grey Goose Vodka and Patrón Tequila! \nCome enjoy the classic Meryl Streep and Goldie Hawn classic Death Becomes Her under the stars on a Lawrenceville rooftop and our 120” screen. Kitchen open till late! Immediately following the movie will be performances by Indigo and Evon Dior Michelle\, so bring those tip dollars! \nSiempre Vive—Live Forever!
URL:https://qburgh.com/event/death-becomes-her-rooftop-movie-night-drag-show/
LOCATION:New Amsterdam\, 4421 Butler Street\, Pittsburgh\, PA\, 15201\, United States
ATTACH;FMTTYPE=image/jpeg:https://qburgh.com/wp-content/uploads/2026/04/death-becomes-her-april-19.jpg
END:VEVENT
BEGIN:VEVENT
DTSTART;TZID=America/New_York:20260412T140000
DTEND;TZID=America/New_York:20260412T170000
DTSTAMP:20260421T211128
CREATED:20260405T174022Z
LAST-MODIFIED:20260405T174022Z
UID:10022232-1776002400-1776013200@qburgh.com
SUMMARY:Hot Ones: Queer Edition
DESCRIPTION:What do a DJ\, drag performer\, esthetician\, and bartender all have in common? Hot Ones: Queer Edition 🔥🔥🔥 \nJoin us April 12th for hilariously spicy ‼️ FREE ‼️ event at New Amsterdam. \nDoors open at 2PM\nBattle begins at 3PM \n🔥 5 Levels of Extreme Heat 🔥\n🎯 Contestant Q&A and Mini-Challenges 🎯\n😂 Live Reactions & Performances 💃🏾 \nHosted by Evon Dior Michelle \nFeaturing:\nCaleb “Bartender”\nBri “Drag Performer”\nROJO “DJ”\nCristina “Esthetician” \nIntroducing the brand new “Challenger Plate”. Think you’re brave enough to take on the challenge from the audience? $10 lets you try all of the sauces and delicious wings from your seat! \nHuge thanks to our sponsors QBurgh for making this a free event and accessible to everyone and a huge thanks to Cold Friends Kitchen for providing the sauce and wings!
URL:https://qburgh.com/event/hot-ones-queer-edition/
LOCATION:New Amsterdam\, 4421 Butler Street\, Pittsburgh\, PA\, 15201\, United States
END:VEVENT
END:VCALENDAR