BEGIN:VCALENDAR
VERSION:2.0
PRODID:-//QBurgh - ECPv6.15.20//NONSGML v1.0//EN
CALSCALE:GREGORIAN
METHOD:PUBLISH
X-ORIGINAL-URL:https://qburgh.com
X-WR-CALDESC:Events for QBurgh
REFRESH-INTERVAL;VALUE=DURATION:PT1H
X-Robots-Tag:noindex
X-PUBLISHED-TTL:PT1H
BEGIN:VTIMEZONE
TZID:America/New_York
BEGIN:DAYLIGHT
TZOFFSETFROM:-0500
TZOFFSETTO:-0400
TZNAME:EDT
DTSTART:20250309T070000
END:DAYLIGHT
BEGIN:STANDARD
TZOFFSETFROM:-0400
TZOFFSETTO:-0500
TZNAME:EST
DTSTART:20251102T060000
END:STANDARD
BEGIN:DAYLIGHT
TZOFFSETFROM:-0500
TZOFFSETTO:-0400
TZNAME:EDT
DTSTART:20260308T070000
END:DAYLIGHT
BEGIN:STANDARD
TZOFFSETFROM:-0400
TZOFFSETTO:-0500
TZNAME:EST
DTSTART:20261101T060000
END:STANDARD
BEGIN:DAYLIGHT
TZOFFSETFROM:-0500
TZOFFSETTO:-0400
TZNAME:EDT
DTSTART:20270314T070000
END:DAYLIGHT
BEGIN:STANDARD
TZOFFSETFROM:-0400
TZOFFSETTO:-0500
TZNAME:EST
DTSTART:20271107T060000
END:STANDARD
END:VTIMEZONE
BEGIN:VEVENT
DTSTART;TZID=America/New_York:20260613T120000
DTEND;TZID=America/New_York:20260613T150000
DTSTAMP:20260422T062525
CREATED:20260212T041658Z
LAST-MODIFIED:20260212T041658Z
UID:10021650-1781352000-1781362800@qburgh.com
SUMMARY:Lost River Pride Festival
DESCRIPTION:The 2026 Lost River Pride Festival will be held on Saturday\, June 13\, 2026\, at the Lost River Farmers Market! \nCome celebrate another year of Pride with the Greater Lost River Community with live music\, food\, and fun! With performances by local and world-renowned talent\, the Lost River Pride Festival welcomes people of all ages and walks of life.
URL:https://qburgh.com/event/lost-river-pride-festival/
LOCATION:Lost River Farmers Market\, 1089 Mill Gap Road\, Lost River\, WV\, 26810\, United States
ATTACH;FMTTYPE=image/png:https://qburgh.com/wp-content/uploads/2026/02/lost-river-pride-festival-june-13.png
ORGANIZER;CN="Lost River Pride":MAILTO:info@lostriverpride.org
END:VEVENT
END:VCALENDAR