BEGIN:VCALENDAR
VERSION:2.0
PRODID:-//QBurgh - ECPv6.15.20//NONSGML v1.0//EN
CALSCALE:GREGORIAN
METHOD:PUBLISH
X-WR-CALNAME:QBurgh
X-ORIGINAL-URL:https://qburgh.com
X-WR-CALDESC:Events for QBurgh
REFRESH-INTERVAL;VALUE=DURATION:PT1H
X-Robots-Tag:noindex
X-PUBLISHED-TTL:PT1H
BEGIN:VTIMEZONE
TZID:America/New_York
BEGIN:DAYLIGHT
TZOFFSETFROM:-0500
TZOFFSETTO:-0400
TZNAME:EDT
DTSTART:20250309T070000
END:DAYLIGHT
BEGIN:STANDARD
TZOFFSETFROM:-0400
TZOFFSETTO:-0500
TZNAME:EST
DTSTART:20251102T060000
END:STANDARD
BEGIN:DAYLIGHT
TZOFFSETFROM:-0500
TZOFFSETTO:-0400
TZNAME:EDT
DTSTART:20260308T070000
END:DAYLIGHT
BEGIN:STANDARD
TZOFFSETFROM:-0400
TZOFFSETTO:-0500
TZNAME:EST
DTSTART:20261101T060000
END:STANDARD
BEGIN:DAYLIGHT
TZOFFSETFROM:-0500
TZOFFSETTO:-0400
TZNAME:EDT
DTSTART:20270314T070000
END:DAYLIGHT
BEGIN:STANDARD
TZOFFSETFROM:-0400
TZOFFSETTO:-0500
TZNAME:EST
DTSTART:20271107T060000
END:STANDARD
END:VTIMEZONE
BEGIN:VEVENT
DTSTART;TZID=America/New_York:20260627T180000
DTEND;TZID=America/New_York:20260627T220000
DTSTAMP:20260424T133515
CREATED:20260309T234529Z
LAST-MODIFIED:20260309T234529Z
UID:10021983-1782583200-1782597600@qburgh.com
SUMMARY:3RBA 4th Annual Fashion Show 2026 — Out of Bounds: No Benches No Closets
DESCRIPTION:We’re excited to officially announce the date and this year’s theme for the 4th Annual 3RBA Fashion Show! \nOut of Bounds: No Benches. No Closets.\nSports\, Pride\, and Fashion\n🗓 Saturday\, June 27\n📍 Franklin on Penn \nWith the NFL Draft in town (and we hear folks really like this Heated Rivalry show 😏)\, this year’s show will celebrate the powerful intersection of athletics\, identity\, and bold self-expression. It’s a high-energy night you won’t want to miss. \nInterested in being a sponsor\, model\, or designer? 📩 \nReach out to info@3rba.com to get involved!
URL:https://qburgh.com/event/3rba-4th-annual-fashion-show-2026-out-of-bounds-no-benches-no-closets/
LOCATION:Franklin on Penn\, 2815 Penn Avenue\, Pittsburgh\, PA\, 15222\, United States
ATTACH;FMTTYPE=image/png:https://qburgh.com/wp-content/uploads/2026/03/3rba-fashion-show-2026.png
ORGANIZER;CN="Three Rivers Business Alliance":MAILTO:info@3rba.com
END:VEVENT
END:VCALENDAR