BEGIN:VCALENDAR
VERSION:2.0
PRODID:-//QBurgh - ECPv6.15.20//NONSGML v1.0//EN
CALSCALE:GREGORIAN
METHOD:PUBLISH
X-WR-CALNAME:QBurgh
X-ORIGINAL-URL:https://qburgh.com
X-WR-CALDESC:Events for QBurgh
REFRESH-INTERVAL;VALUE=DURATION:PT1H
X-Robots-Tag:noindex
X-PUBLISHED-TTL:PT1H
BEGIN:VTIMEZONE
TZID:America/New_York
BEGIN:DAYLIGHT
TZOFFSETFROM:-0500
TZOFFSETTO:-0400
TZNAME:EDT
DTSTART:20250309T070000
END:DAYLIGHT
BEGIN:STANDARD
TZOFFSETFROM:-0400
TZOFFSETTO:-0500
TZNAME:EST
DTSTART:20251102T060000
END:STANDARD
BEGIN:DAYLIGHT
TZOFFSETFROM:-0500
TZOFFSETTO:-0400
TZNAME:EDT
DTSTART:20260308T070000
END:DAYLIGHT
BEGIN:STANDARD
TZOFFSETFROM:-0400
TZOFFSETTO:-0500
TZNAME:EST
DTSTART:20261101T060000
END:STANDARD
BEGIN:DAYLIGHT
TZOFFSETFROM:-0500
TZOFFSETTO:-0400
TZNAME:EDT
DTSTART:20270314T070000
END:DAYLIGHT
BEGIN:STANDARD
TZOFFSETFROM:-0400
TZOFFSETTO:-0500
TZNAME:EST
DTSTART:20271107T060000
END:STANDARD
END:VTIMEZONE
BEGIN:VEVENT
DTSTART;TZID=America/New_York:20260320T180000
DTEND;TZID=America/New_York:20260320T200000
DTSTAMP:20260421T054044
CREATED:20260228T182217Z
LAST-MODIFIED:20260228T182256Z
UID:10021908-1774029600-1774036800@qburgh.com
SUMMARY:Sapphics Play Poker Night
DESCRIPTION:Join us for a night of fun\, camaraderie\, and poker! Elements Counseling and Wellness Spa (2910 \n McKelvey Rd. Ext.\, Pittsburgh\, PA 15221). Free to play\, no actual gambling! \nMarch 20\, 2026 / 6-8PM \nRSVP by scanning the QR code or going to the link: \nhttps://docs.google.com/forms/d/e/1FAIpQLSeKqZJ8DECHkIoH_lcJ0tS7eDzMTFY1Fe6uM_DsX0TIjeNLCw/viewform
URL:https://qburgh.com/event/sapphics-play-poker-night-3/
LOCATION:Elements Counseling and Wellness Spa\,  2910 McKelvey Road Ext.\, Pittsburgh\, PA\, 15222\, United States
ATTACH;FMTTYPE=image/webp:https://qburgh.com/wp-content/uploads/2026/02/sapphics-play-poker-march-2.webp
ORGANIZER;CN="Sapphics Play Poker PGH":MAILTO:sapphicsplaypokerpgh@gmail.com
END:VEVENT
END:VCALENDAR