BEGIN:VCALENDAR
VERSION:2.0
PRODID:-//QBurgh - ECPv6.15.20//NONSGML v1.0//EN
CALSCALE:GREGORIAN
METHOD:PUBLISH
X-ORIGINAL-URL:https://qburgh.com
X-WR-CALDESC:Events for QBurgh
REFRESH-INTERVAL;VALUE=DURATION:PT1H
X-Robots-Tag:noindex
X-PUBLISHED-TTL:PT1H
BEGIN:VTIMEZONE
TZID:America/New_York
BEGIN:DAYLIGHT
TZOFFSETFROM:-0500
TZOFFSETTO:-0400
TZNAME:EDT
DTSTART:20250309T070000
END:DAYLIGHT
BEGIN:STANDARD
TZOFFSETFROM:-0400
TZOFFSETTO:-0500
TZNAME:EST
DTSTART:20251102T060000
END:STANDARD
BEGIN:DAYLIGHT
TZOFFSETFROM:-0500
TZOFFSETTO:-0400
TZNAME:EDT
DTSTART:20260308T070000
END:DAYLIGHT
BEGIN:STANDARD
TZOFFSETFROM:-0400
TZOFFSETTO:-0500
TZNAME:EST
DTSTART:20261101T060000
END:STANDARD
BEGIN:DAYLIGHT
TZOFFSETFROM:-0500
TZOFFSETTO:-0400
TZNAME:EDT
DTSTART:20270314T070000
END:DAYLIGHT
BEGIN:STANDARD
TZOFFSETFROM:-0400
TZOFFSETTO:-0500
TZNAME:EST
DTSTART:20271107T060000
END:STANDARD
END:VTIMEZONE
BEGIN:VEVENT
DTSTART;TZID=America/New_York:20260418T200000
DTEND;TZID=America/New_York:20260418T220000
DTSTAMP:20260421T211222
CREATED:20260308T183214Z
LAST-MODIFIED:20260308T183214Z
UID:10021978-1776542400-1776549600@qburgh.com
SUMMARY:50 Shades of Gay
DESCRIPTION:Kermit isn’t the only one singing about the Rainbow Connection these days. Join your Pittsburgh Pride Choir for our 2026 Cabaret Concert\, 50 Shades of Gay\, where we explore the many different colors of the pride rainbow. You might even hear songs about Pink Ponies or being Golden\, to drop a hint or two. You won’t want to miss these concerts. \nThe Pittsburgh Pride Choir is supported in part by the taxpayers of Allegheny County through a public grant from the Allegheny Regional Asset District. \nELPC is ADA accessible. Accessibility questions may be directed to: accessibility@pittsburghpridechoir.org \nASL interpretation is available on both dates.
URL:https://qburgh.com/event/50-shades-of-gay/2026-04-18/
LOCATION:East Liberty Presbyterian Church\, 116 S Highland Avenue\, Pittsburgh\, PA\, 15206\, United States
ORGANIZER;CN="Pittsburgh Pride Choir":MAILTO:info@pittsburghpridechoir.org
END:VEVENT
BEGIN:VEVENT
DTSTART;TZID=America/New_York:20260417T200000
DTEND;TZID=America/New_York:20260417T220000
DTSTAMP:20260421T211222
CREATED:20260308T183214Z
LAST-MODIFIED:20260308T183214Z
UID:10021977-1776456000-1776463200@qburgh.com
SUMMARY:50 Shades of Gay
DESCRIPTION:Kermit isn’t the only one singing about the Rainbow Connection these days. Join your Pittsburgh Pride Choir for our 2026 Cabaret Concert\, 50 Shades of Gay\, where we explore the many different colors of the pride rainbow. You might even hear songs about Pink Ponies or being Golden\, to drop a hint or two. You won’t want to miss these concerts. \nThe Pittsburgh Pride Choir is supported in part by the taxpayers of Allegheny County through a public grant from the Allegheny Regional Asset District. \nELPC is ADA accessible. Accessibility questions may be directed to: accessibility@pittsburghpridechoir.org \nASL interpretation is available on both dates.
URL:https://qburgh.com/event/50-shades-of-gay/2026-04-17/
LOCATION:East Liberty Presbyterian Church\, 116 S Highland Avenue\, Pittsburgh\, PA\, 15206\, United States
ORGANIZER;CN="Pittsburgh Pride Choir":MAILTO:info@pittsburghpridechoir.org
END:VEVENT
END:VCALENDAR