BEGIN:VCALENDAR
VERSION:2.0
PRODID:-//QBurgh - ECPv6.15.20//NONSGML v1.0//EN
CALSCALE:GREGORIAN
METHOD:PUBLISH
X-WR-CALNAME:QBurgh
X-ORIGINAL-URL:https://qburgh.com
X-WR-CALDESC:Events for QBurgh
REFRESH-INTERVAL;VALUE=DURATION:PT1H
X-Robots-Tag:noindex
X-PUBLISHED-TTL:PT1H
BEGIN:VTIMEZONE
TZID:America/New_York
BEGIN:DAYLIGHT
TZOFFSETFROM:-0500
TZOFFSETTO:-0400
TZNAME:EDT
DTSTART:20250309T070000
END:DAYLIGHT
BEGIN:STANDARD
TZOFFSETFROM:-0400
TZOFFSETTO:-0500
TZNAME:EST
DTSTART:20251102T060000
END:STANDARD
BEGIN:DAYLIGHT
TZOFFSETFROM:-0500
TZOFFSETTO:-0400
TZNAME:EDT
DTSTART:20260308T070000
END:DAYLIGHT
BEGIN:STANDARD
TZOFFSETFROM:-0400
TZOFFSETTO:-0500
TZNAME:EST
DTSTART:20261101T060000
END:STANDARD
BEGIN:DAYLIGHT
TZOFFSETFROM:-0500
TZOFFSETTO:-0400
TZNAME:EDT
DTSTART:20270314T070000
END:DAYLIGHT
BEGIN:STANDARD
TZOFFSETFROM:-0400
TZOFFSETTO:-0500
TZNAME:EST
DTSTART:20271107T060000
END:STANDARD
END:VTIMEZONE
BEGIN:VEVENT
DTSTART;TZID=America/New_York:20260410T173000
DTEND;TZID=America/New_York:20260410T200000
DTSTAMP:20260421T210125
CREATED:20260407T010535Z
LAST-MODIFIED:20260407T010535Z
UID:10022252-1775842200-1775851200@qburgh.com
SUMMARY:G2H2 Pittsburgh Happy Hour
DESCRIPTION:It’s upon us again! See you there! Can’t wait! \nG2H2\nFriday\, April 10th\n5:30-8:00pm \nBill’s Bar & Burger\n1001 Liberty Ave.\, Pittsburgh\, PA 15222 \nBrian will be there snapping pics of the evening\, so bring your smiles! 😉
URL:https://qburgh.com/event/g2h2-pittsburgh-happy-hour/
LOCATION:Bill’s Bar & Burger\, 1001 Liberty Avenue\, Pittsburgh\, PA\, 15222\, United States
ATTACH;FMTTYPE=image/jpeg:https://qburgh.com/wp-content/uploads/2026/04/g2h2-april-10.jpg
END:VEVENT
END:VCALENDAR