BEGIN:VCALENDAR
VERSION:2.0
PRODID:-//QBurgh - ECPv6.15.20//NONSGML v1.0//EN
CALSCALE:GREGORIAN
METHOD:PUBLISH
X-WR-CALNAME:QBurgh
X-ORIGINAL-URL:https://qburgh.com
X-WR-CALDESC:Events for QBurgh
REFRESH-INTERVAL;VALUE=DURATION:PT1H
X-Robots-Tag:noindex
X-PUBLISHED-TTL:PT1H
BEGIN:VTIMEZONE
TZID:America/New_York
BEGIN:DAYLIGHT
TZOFFSETFROM:-0500
TZOFFSETTO:-0400
TZNAME:EDT
DTSTART:20250309T070000
END:DAYLIGHT
BEGIN:STANDARD
TZOFFSETFROM:-0400
TZOFFSETTO:-0500
TZNAME:EST
DTSTART:20251102T060000
END:STANDARD
BEGIN:DAYLIGHT
TZOFFSETFROM:-0500
TZOFFSETTO:-0400
TZNAME:EDT
DTSTART:20260308T070000
END:DAYLIGHT
BEGIN:STANDARD
TZOFFSETFROM:-0400
TZOFFSETTO:-0500
TZNAME:EST
DTSTART:20261101T060000
END:STANDARD
BEGIN:DAYLIGHT
TZOFFSETFROM:-0500
TZOFFSETTO:-0400
TZNAME:EDT
DTSTART:20270314T070000
END:DAYLIGHT
BEGIN:STANDARD
TZOFFSETFROM:-0400
TZOFFSETTO:-0500
TZNAME:EST
DTSTART:20271107T060000
END:STANDARD
END:VTIMEZONE
BEGIN:VEVENT
DTSTART;TZID=America/New_York:20260426T100000
DTEND;TZID=America/New_York:20260426T190000
DTSTAMP:20260421T210120
CREATED:20260420T013827Z
LAST-MODIFIED:20260420T013927Z
UID:10022339-1777197600-1777230000@qburgh.com
SUMMARY:Lesbian Day of Visibility
DESCRIPTION:📍Pittsburgh\, PA // Join The Soft Spot on April 26 with a full day of community\, creativity\, and connection for Lesbian Day of Visibility (the last day of LVW). \nFrom 10 AM to 7 PM\, the space will host DJs\, crafts\, panel discussions\, and free portrait photography alongside opportunities to get involved with local advocacy groups\, including CASA San Jose and Frontline Dignity. The event also features affogatos from Leona’s Ice Cream and sapphic flash tattoos by Kindred Spirit. \nThe focus stays on showing up\, being seen\, and building community in real time\, with plenty of ways to participate\, connect\, and take something meaningful with you. \nDate: Sunday\, April 26\nTime: 10:00AM – 7:00PM\nLocation: The Soft Spot — 5407 Penn Ave\, Pittsburgh\, PA 15206
URL:https://qburgh.com/event/lesbian-day-of-visibility/
LOCATION:The Soft Spot\, 5407 Penn Avenue\, Pittsburgh\, PA\, 15206\, United States
ATTACH;FMTTYPE=image/jpeg:https://qburgh.com/wp-content/uploads/2026/04/soft-spot-lesbian-day-of-visibility-april-26.jpg
ORGANIZER;CN="Lesbian Visibility Week USA":MAILTO:info@thecurvefoundation.org
END:VEVENT
END:VCALENDAR