BEGIN:VCALENDAR
VERSION:2.0
PRODID:-//QBurgh - ECPv6.15.20//NONSGML v1.0//EN
CALSCALE:GREGORIAN
METHOD:PUBLISH
X-WR-CALNAME:QBurgh
X-ORIGINAL-URL:https://qburgh.com
X-WR-CALDESC:Events for QBurgh
REFRESH-INTERVAL;VALUE=DURATION:PT1H
X-Robots-Tag:noindex
X-PUBLISHED-TTL:PT1H
BEGIN:VTIMEZONE
TZID:America/New_York
BEGIN:DAYLIGHT
TZOFFSETFROM:-0500
TZOFFSETTO:-0400
TZNAME:EDT
DTSTART:20250309T070000
END:DAYLIGHT
BEGIN:STANDARD
TZOFFSETFROM:-0400
TZOFFSETTO:-0500
TZNAME:EST
DTSTART:20251102T060000
END:STANDARD
BEGIN:DAYLIGHT
TZOFFSETFROM:-0500
TZOFFSETTO:-0400
TZNAME:EDT
DTSTART:20260308T070000
END:DAYLIGHT
BEGIN:STANDARD
TZOFFSETFROM:-0400
TZOFFSETTO:-0500
TZNAME:EST
DTSTART:20261101T060000
END:STANDARD
BEGIN:DAYLIGHT
TZOFFSETFROM:-0500
TZOFFSETTO:-0400
TZNAME:EDT
DTSTART:20270314T070000
END:DAYLIGHT
BEGIN:STANDARD
TZOFFSETFROM:-0400
TZOFFSETTO:-0500
TZNAME:EST
DTSTART:20271107T060000
END:STANDARD
END:VTIMEZONE
BEGIN:VEVENT
DTSTART;TZID=America/New_York:20260404T235500
DTEND;TZID=America/New_York:20260405T040000
DTSTAMP:20260421T225209
CREATED:20260401T002745Z
LAST-MODIFIED:20260401T002745Z
UID:10022161-1775346900-1775361600@qburgh.com
SUMMARY:MeatSpin: Easter Sunday Service
DESCRIPTION:The next MeatSpin carries you into Easter Sunday. So let’s get serviced! HE IS RISEN! \nWe’ll have an egg hunt\, so bring your own basket. \nYou could win a prize? \nYOU could win a prize! \n$15 GENERAL ADMISSION. FREE WITH RENTAL PURCHASE \n__________ \nMeatSpin: a sex+ dance party for the gays & an open deck night to highlight LGBTQ/amateur DJs. first Saturday each month AH@ClubPitt. Clothing optional\, 21+
URL:https://qburgh.com/event/meatspin-easter-sunday-service/
LOCATION:Club Pittsburgh\, 1139 Penn Avenue (side entrance)\, Pittsburgh\, PA\, 15222\, United States
ATTACH;FMTTYPE=image/jpeg:https://qburgh.com/wp-content/uploads/2026/03/meatspin-easter-sunday-service-april-4.jpg
END:VEVENT
END:VCALENDAR