BEGIN:VCALENDAR
VERSION:2.0
PRODID:-//QBurgh - ECPv6.15.20//NONSGML v1.0//EN
CALSCALE:GREGORIAN
METHOD:PUBLISH
X-WR-CALNAME:QBurgh
X-ORIGINAL-URL:https://qburgh.com
X-WR-CALDESC:Events for QBurgh
REFRESH-INTERVAL;VALUE=DURATION:PT1H
X-Robots-Tag:noindex
X-PUBLISHED-TTL:PT1H
BEGIN:VTIMEZONE
TZID:America/New_York
BEGIN:DAYLIGHT
TZOFFSETFROM:-0500
TZOFFSETTO:-0400
TZNAME:EDT
DTSTART:20250309T070000
END:DAYLIGHT
BEGIN:STANDARD
TZOFFSETFROM:-0400
TZOFFSETTO:-0500
TZNAME:EST
DTSTART:20251102T060000
END:STANDARD
BEGIN:DAYLIGHT
TZOFFSETFROM:-0500
TZOFFSETTO:-0400
TZNAME:EDT
DTSTART:20260308T070000
END:DAYLIGHT
BEGIN:STANDARD
TZOFFSETFROM:-0400
TZOFFSETTO:-0500
TZNAME:EST
DTSTART:20261101T060000
END:STANDARD
BEGIN:DAYLIGHT
TZOFFSETFROM:-0500
TZOFFSETTO:-0400
TZNAME:EDT
DTSTART:20270314T070000
END:DAYLIGHT
BEGIN:STANDARD
TZOFFSETFROM:-0400
TZOFFSETTO:-0500
TZNAME:EST
DTSTART:20271107T060000
END:STANDARD
END:VTIMEZONE
BEGIN:VEVENT
DTSTART;TZID=America/New_York:20260419T190000
DTEND;TZID=America/New_York:20260419T210000
DTSTAMP:20260421T225951
CREATED:20260401T002343Z
LAST-MODIFIED:20260401T002343Z
UID:10022160-1776625200-1776632400@qburgh.com
SUMMARY:Cattybaret!
DESCRIPTION:Sunday\, April 19th\, at the Blue Moon\, we’re putting on another cabaret! Show starts nice and early at 7pm! \nKeep your Sunday Funday going and get a little food while you’re at it! \nDinner\, drinks\, and a show? Yes please! \n$5 cover for the night! Payment made at the door includes food provided by Blue Moon and show! Menu to come soon. \nDon’t forget Evanly Bakes (@evanlybakes) will be providing dessert and will be selling their gorgeous goodies!!! The Cattybaret is also a lawrenceville monthly pick up spot so be sure to get your orders in online!!! \nHost:\nCatty Wampus (@cattywampus) \nCast:\nWarren Munroe (@miss.munroe)\nHebe Buffay (@hebebuffay)\nDonatella (@donatelladied)  \nWith Brayden Butter (@brayden.butter) as my right-hand man.  \nLet us know if we’ll see ya there! \nFlier by Colin Hunter (@colinhunterdesigner)
URL:https://qburgh.com/event/cattybaret/
LOCATION:Blue Moon Bar\, 5115 Butler Street\, Pittsburgh\, PA\, 15201\, United States
ATTACH;FMTTYPE=image/jpeg:https://qburgh.com/wp-content/uploads/2026/03/cattybaret-april-19.jpg
ORGANIZER;CN="Catty Wampus":MAILTO:abbottr22@gmail.com
END:VEVENT
BEGIN:VEVENT
DTSTART;TZID=America/New_York:20260404T230000
DTEND;TZID=America/New_York:20260405T020000
DTSTAMP:20260421T225951
CREATED:20260325T004659Z
LAST-MODIFIED:20260325T004659Z
UID:10022113-1775343600-1775354400@qburgh.com
SUMMARY:Who's Laughing?: A Kooky\, Kitschy\, Comedy Drag Night
DESCRIPTION:🤣🤣🤣 Who’s Laughing? 🤣🤣🤣 \nApril 4th at the Blue Moon Bar. Showtime: 11pm! \nJoin me and my stunning cast as we perform totally seriously and not at all in a funny way to make you laugh. \nHosted by CATTY WAMPUS! \nCast:\nDixie Surewood (@dixiesurewood)\nPhoebe R. (@theotherpbr)\nZion Grindr (@ziongrindr)\nViva Glamor (@missvivaglamour) \nPopup shop of stunning art by POLE (@colinhunterr) \nSee you there!!!
URL:https://qburgh.com/event/whos-laughing-a-kooky-kitschy-comedy-drag-night/
LOCATION:Blue Moon Bar\, 5115 Butler Street\, Pittsburgh\, PA\, 15201\, United States
ATTACH;FMTTYPE=image/jpeg:https://qburgh.com/wp-content/uploads/2026/03/whos-laughing-april-4.jpg
ORGANIZER;CN="Catty Wampus":MAILTO:abbottr22@gmail.com
END:VEVENT
END:VCALENDAR