BEGIN:VCALENDAR
VERSION:2.0
PRODID:-//QBurgh - ECPv6.15.20//NONSGML v1.0//EN
CALSCALE:GREGORIAN
METHOD:PUBLISH
X-ORIGINAL-URL:https://qburgh.com
X-WR-CALDESC:Events for QBurgh
REFRESH-INTERVAL;VALUE=DURATION:PT1H
X-Robots-Tag:noindex
X-PUBLISHED-TTL:PT1H
BEGIN:VTIMEZONE
TZID:America/New_York
BEGIN:DAYLIGHT
TZOFFSETFROM:-0500
TZOFFSETTO:-0400
TZNAME:EDT
DTSTART:20250309T070000
END:DAYLIGHT
BEGIN:STANDARD
TZOFFSETFROM:-0400
TZOFFSETTO:-0500
TZNAME:EST
DTSTART:20251102T060000
END:STANDARD
BEGIN:DAYLIGHT
TZOFFSETFROM:-0500
TZOFFSETTO:-0400
TZNAME:EDT
DTSTART:20260308T070000
END:DAYLIGHT
BEGIN:STANDARD
TZOFFSETFROM:-0400
TZOFFSETTO:-0500
TZNAME:EST
DTSTART:20261101T060000
END:STANDARD
BEGIN:DAYLIGHT
TZOFFSETFROM:-0500
TZOFFSETTO:-0400
TZNAME:EDT
DTSTART:20270314T070000
END:DAYLIGHT
BEGIN:STANDARD
TZOFFSETFROM:-0400
TZOFFSETTO:-0500
TZNAME:EST
DTSTART:20271107T060000
END:STANDARD
END:VTIMEZONE
BEGIN:VEVENT
DTSTART;TZID=America/New_York:20260402T183000
DTEND;TZID=America/New_York:20260402T210000
DTSTAMP:20260421T225258
CREATED:20260321T202723Z
LAST-MODIFIED:20260321T202723Z
UID:10022081-1775154600-1775163600@qburgh.com
SUMMARY:Soft Launch: A Sapphic & Dyke Poetry Reading & Open Mic
DESCRIPTION:I’ll be hosting a poetry reading on April 2\, 2026 at 6:30 p.m. at Pittsburgh’s best (and only) sapphic café! The Soft Spot on Penn! \nApril’s featured readers are stunning:\nMegan Williams (@megannn_lynne)\nBri Griffith (@brigriffith)\nDezz\, Just Dezz (@justdezzie) \nEach reader will have about ten minutes to share\, and then if anyone would like to share a piece\, the mic will be open. 🥰 I’m hoping to do this monthly or every other month\, so message me if you’re interested in being featured. All are welcome in our space but priority goes to sapphics & dykes. \n6:30pm-??? The shop closes at 9pm! \nCome buy a delicious coffee or tea\, hang out\, be gay\, do poetry! \nSpread the word!! \nAnd you can IMMEDIATELY go to Steel Carabiner after the shop closes. It’s 7 minutes away. What a perfect gay day!
URL:https://qburgh.com/event/soft-launch-a-sapphic-dyke-poetry-reading-open-mic/
LOCATION:The Soft Spot\, 5407 Penn Avenue\, Pittsburgh\, PA\, 15206\, United States
ATTACH;FMTTYPE=image/jpeg:https://qburgh.com/wp-content/uploads/2026/03/soft-launch-april-2.jpg
END:VEVENT
END:VCALENDAR