BEGIN:VCALENDAR
VERSION:2.0
PRODID:-//QBurgh - ECPv6.15.20//NONSGML v1.0//EN
CALSCALE:GREGORIAN
METHOD:PUBLISH
X-WR-CALNAME:QBurgh
X-ORIGINAL-URL:https://qburgh.com
X-WR-CALDESC:Events for QBurgh
REFRESH-INTERVAL;VALUE=DURATION:PT1H
X-Robots-Tag:noindex
X-PUBLISHED-TTL:PT1H
BEGIN:VTIMEZONE
TZID:America/New_York
BEGIN:DAYLIGHT
TZOFFSETFROM:-0500
TZOFFSETTO:-0400
TZNAME:EDT
DTSTART:20250309T070000
END:DAYLIGHT
BEGIN:STANDARD
TZOFFSETFROM:-0400
TZOFFSETTO:-0500
TZNAME:EST
DTSTART:20251102T060000
END:STANDARD
BEGIN:DAYLIGHT
TZOFFSETFROM:-0500
TZOFFSETTO:-0400
TZNAME:EDT
DTSTART:20260308T070000
END:DAYLIGHT
BEGIN:STANDARD
TZOFFSETFROM:-0400
TZOFFSETTO:-0500
TZNAME:EST
DTSTART:20261101T060000
END:STANDARD
BEGIN:DAYLIGHT
TZOFFSETFROM:-0500
TZOFFSETTO:-0400
TZNAME:EDT
DTSTART:20270314T070000
END:DAYLIGHT
BEGIN:STANDARD
TZOFFSETFROM:-0400
TZOFFSETTO:-0500
TZNAME:EST
DTSTART:20271107T060000
END:STANDARD
END:VTIMEZONE
BEGIN:VEVENT
DTSTART;TZID=America/New_York:20260617T180000
DTEND;TZID=America/New_York:20260617T203000
DTSTAMP:20260421T211051
CREATED:20260105T014110Z
LAST-MODIFIED:20260105T014144Z
UID:10021082-1781719200-1781728200@qburgh.com
SUMMARY:WCGSA Trans Peer Group
DESCRIPTION:A support group for Trans and Non-Binary individuals to share knowledge\, experience\, emotional\, social and practical thoughts with others. Meetings are the 3rd Wednesday of every month from 6:00pm – 8:30pm \nFor more info\, contact jraerhys@wcgsa.org
URL:https://qburgh.com/event/wcgsa-trans-peer-group/2026-06-17/
LOCATION:The Center on Strawberry\, 59 E Strawberry Ave\, Washington\, PA\, 15301\, United States
ORGANIZER;CN="Washington County Gay Straight Alliance%2C Inc. (WCGSA)":MAILTO:info@wcgsa.org
END:VEVENT
END:VCALENDAR