BEGIN:VCALENDAR
VERSION:2.0
PRODID:-//QBurgh - ECPv6.15.20//NONSGML v1.0//EN
CALSCALE:GREGORIAN
METHOD:PUBLISH
X-WR-CALNAME:QBurgh
X-ORIGINAL-URL:https://qburgh.com
X-WR-CALDESC:Events for QBurgh
REFRESH-INTERVAL;VALUE=DURATION:PT1H
X-Robots-Tag:noindex
X-PUBLISHED-TTL:PT1H
BEGIN:VTIMEZONE
TZID:America/New_York
BEGIN:DAYLIGHT
TZOFFSETFROM:-0500
TZOFFSETTO:-0400
TZNAME:EDT
DTSTART:20250309T070000
END:DAYLIGHT
BEGIN:STANDARD
TZOFFSETFROM:-0400
TZOFFSETTO:-0500
TZNAME:EST
DTSTART:20251102T060000
END:STANDARD
BEGIN:DAYLIGHT
TZOFFSETFROM:-0500
TZOFFSETTO:-0400
TZNAME:EDT
DTSTART:20260308T070000
END:DAYLIGHT
BEGIN:STANDARD
TZOFFSETFROM:-0400
TZOFFSETTO:-0500
TZNAME:EST
DTSTART:20261101T060000
END:STANDARD
BEGIN:DAYLIGHT
TZOFFSETFROM:-0500
TZOFFSETTO:-0400
TZNAME:EDT
DTSTART:20270314T070000
END:DAYLIGHT
BEGIN:STANDARD
TZOFFSETFROM:-0400
TZOFFSETTO:-0500
TZNAME:EST
DTSTART:20271107T060000
END:STANDARD
END:VTIMEZONE
BEGIN:VEVENT
DTSTART;TZID=America/New_York:20260430T180000
DTEND;TZID=America/New_York:20260430T210000
DTSTAMP:20260421T191023
CREATED:20260418T185858Z
LAST-MODIFIED:20260418T185858Z
UID:107480-1777572000-1777582800@qburgh.com
SUMMARY:TParty: TBoy* Mixer April Edition
DESCRIPTION:🍃T PARTY: TBOY* MIXER APRIL EDITION🍃 \nWe’ll be hanging out\, gaming\, crafting\, and mingling on THURSDAY\, APRIL 30th\, at our home base the Soft Spot. Free entry! \nPlease feel free to reach out with any questions! We hope to see you there!!! \n*Trans masculine/trans men/nonbinary/genderfluid folks welcome.
URL:https://qburgh.com/event/tparty-tboy-mixer-april-edition/
LOCATION:The Soft Spot\, 5407 Penn Avenue\, Pittsburgh\, PA\, 15206\, United States
ATTACH;FMTTYPE=image/jpeg:https://qburgh.com/wp-content/uploads/2026/04/tboy-mixer-april-30.jpg
END:VEVENT
END:VCALENDAR