BEGIN:VCALENDAR
VERSION:2.0
PRODID:-//QBurgh - ECPv6.15.20//NONSGML v1.0//EN
CALSCALE:GREGORIAN
METHOD:PUBLISH
X-WR-CALNAME:QBurgh
X-ORIGINAL-URL:https://qburgh.com
X-WR-CALDESC:Events for QBurgh
REFRESH-INTERVAL;VALUE=DURATION:PT1H
X-Robots-Tag:noindex
X-PUBLISHED-TTL:PT1H
BEGIN:VTIMEZONE
TZID:America/New_York
BEGIN:DAYLIGHT
TZOFFSETFROM:-0500
TZOFFSETTO:-0400
TZNAME:EDT
DTSTART:20250309T070000
END:DAYLIGHT
BEGIN:STANDARD
TZOFFSETFROM:-0400
TZOFFSETTO:-0500
TZNAME:EST
DTSTART:20251102T060000
END:STANDARD
BEGIN:DAYLIGHT
TZOFFSETFROM:-0500
TZOFFSETTO:-0400
TZNAME:EDT
DTSTART:20260308T070000
END:DAYLIGHT
BEGIN:STANDARD
TZOFFSETFROM:-0400
TZOFFSETTO:-0500
TZNAME:EST
DTSTART:20261101T060000
END:STANDARD
BEGIN:DAYLIGHT
TZOFFSETFROM:-0500
TZOFFSETTO:-0400
TZNAME:EDT
DTSTART:20270314T070000
END:DAYLIGHT
BEGIN:STANDARD
TZOFFSETFROM:-0400
TZOFFSETTO:-0500
TZNAME:EST
DTSTART:20271107T060000
END:STANDARD
END:VTIMEZONE
BEGIN:VEVENT
DTSTART;TZID=America/New_York:20260419T110000
DTEND;TZID=America/New_York:20260419T140000
DTSTAMP:20260421T191740
CREATED:20260410T231423Z
LAST-MODIFIED:20260410T231423Z
UID:106923-1776596400-1776607200@qburgh.com
SUMMARY:The Ladies Who Drag Brunch
DESCRIPTION:Start your Sunday the 5801 way with brunch\, bubbles\, and a fierce lineup of drag. \nJoin us from 11:00 AM to 1:00 PM for a delicious brunch and a free drag show starting at noon\, featuring some of the area’s most exciting performers. Our regular menu will resume at 1:15 PM. \nJoin us Sunday\, April 19th for an iconic show with Anemia Blunt\, Phoebe R.\, and Reese S. Pieces! \nEmail info@5801pgh.com for reservations. \nVisit our Drag Brunch page for weekly menus\, performer lineups\, and upcoming dates:\nhttps://www.5801pgh.com/drag-brunch/
URL:https://qburgh.com/event/the-ladies-who-drag-brunch/
LOCATION:5801 Video Lounge & Cafe\, 5801 Ellsworth Avenue\, Pittsburgh\, PA\, United States
ATTACH;FMTTYPE=image/jpeg:https://qburgh.com/wp-content/uploads/2026/04/ladies-who-april-19.jpg
ORGANIZER;CN="5801 Video Lounge & Cafe":MAILTO:info@5801videolounge.com
END:VEVENT
END:VCALENDAR