BEGIN:VCALENDAR
VERSION:2.0
PRODID:-//QBurgh - ECPv6.15.20//NONSGML v1.0//EN
CALSCALE:GREGORIAN
METHOD:PUBLISH
X-WR-CALNAME:QBurgh
X-ORIGINAL-URL:https://qburgh.com
X-WR-CALDESC:Events for QBurgh
REFRESH-INTERVAL;VALUE=DURATION:PT1H
X-Robots-Tag:noindex
X-PUBLISHED-TTL:PT1H
BEGIN:VTIMEZONE
TZID:America/New_York
BEGIN:DAYLIGHT
TZOFFSETFROM:-0500
TZOFFSETTO:-0400
TZNAME:EDT
DTSTART:20250309T070000
END:DAYLIGHT
BEGIN:STANDARD
TZOFFSETFROM:-0400
TZOFFSETTO:-0500
TZNAME:EST
DTSTART:20251102T060000
END:STANDARD
BEGIN:DAYLIGHT
TZOFFSETFROM:-0500
TZOFFSETTO:-0400
TZNAME:EDT
DTSTART:20260308T070000
END:DAYLIGHT
BEGIN:STANDARD
TZOFFSETFROM:-0400
TZOFFSETTO:-0500
TZNAME:EST
DTSTART:20261101T060000
END:STANDARD
BEGIN:DAYLIGHT
TZOFFSETFROM:-0500
TZOFFSETTO:-0400
TZNAME:EDT
DTSTART:20270314T070000
END:DAYLIGHT
BEGIN:STANDARD
TZOFFSETFROM:-0400
TZOFFSETTO:-0500
TZNAME:EST
DTSTART:20271107T060000
END:STANDARD
END:VTIMEZONE
BEGIN:VEVENT
DTSTART;TZID=America/New_York:20260613T150000
DTEND;TZID=America/New_York:20260613T210000
DTSTAMP:20260421T225107
CREATED:20260418T191006Z
LAST-MODIFIED:20260418T191006Z
UID:107490-1781362800-1781384400@qburgh.com
SUMMARY:Pride 2026: Free to Be
DESCRIPTION:Join us for the Friendlier City Project’s 4th annual Pride Festival! We are thrilled to be back in downtown Wheeling — bigger and brighter than ever before! 🔥🌈 \nWe hope you will join us for a celebration of LGBTQ+ Pride\, culture\, history and community! This family-friendly event will feature exceptional live entertainment\, a variety of food trucks and an outstanding artisan vendor market. \nIn response to the United States’s 250th birthday\, this year’s theme is “Free To Be.” We are thrilled to host iconic symbols of American and LGBTQ+ history with the original Gilbert Baker pride flag\, panels of the AIDS Memorial quilt\, and so much more. \nSpecial thanks to amazing local artist Amanda Carney (@ohmandaz) who designed this year’s pride design! ❤️
URL:https://qburgh.com/event/pride-2026-free-to-be/
LOCATION:Heritage Port\, 1200 Water Street\, Wheeling\, WV\, 26003\, United States
ATTACH;FMTTYPE=image/jpeg:https://qburgh.com/wp-content/uploads/2026/04/friendlier-city-pride-june-13.jpg
ORGANIZER;CN="The Friendlier City Project":MAILTO:thefriendliercityproject@gmail.com
END:VEVENT
END:VCALENDAR