BEGIN:VCALENDAR
VERSION:2.0
PRODID:-//QBurgh - ECPv6.15.20//NONSGML v1.0//EN
CALSCALE:GREGORIAN
METHOD:PUBLISH
X-WR-CALNAME:QBurgh
X-ORIGINAL-URL:https://qburgh.com
X-WR-CALDESC:Events for QBurgh
REFRESH-INTERVAL;VALUE=DURATION:PT1H
X-Robots-Tag:noindex
X-PUBLISHED-TTL:PT1H
BEGIN:VTIMEZONE
TZID:America/New_York
BEGIN:DAYLIGHT
TZOFFSETFROM:-0500
TZOFFSETTO:-0400
TZNAME:EDT
DTSTART:20250309T070000
END:DAYLIGHT
BEGIN:STANDARD
TZOFFSETFROM:-0400
TZOFFSETTO:-0500
TZNAME:EST
DTSTART:20251102T060000
END:STANDARD
BEGIN:DAYLIGHT
TZOFFSETFROM:-0500
TZOFFSETTO:-0400
TZNAME:EDT
DTSTART:20260308T070000
END:DAYLIGHT
BEGIN:STANDARD
TZOFFSETFROM:-0400
TZOFFSETTO:-0500
TZNAME:EST
DTSTART:20261101T060000
END:STANDARD
BEGIN:DAYLIGHT
TZOFFSETFROM:-0500
TZOFFSETTO:-0400
TZNAME:EDT
DTSTART:20270314T070000
END:DAYLIGHT
BEGIN:STANDARD
TZOFFSETFROM:-0400
TZOFFSETTO:-0500
TZNAME:EST
DTSTART:20271107T060000
END:STANDARD
END:VTIMEZONE
BEGIN:VEVENT
DTSTART;TZID=America/New_York:20260613T110000
DTEND;TZID=America/New_York:20260613T150000
DTSTAMP:20260425T175922
CREATED:20260420T014656Z
LAST-MODIFIED:20260420T014656Z
UID:107549-1781348400-1781362800@qburgh.com
SUMMARY:LGBTQ Group doing Tour De Donut Biking
DESCRIPTION:Join singlesoutpgh as we participate in Tour DeDonut Bike race this coming June. \nTickets are $39 and payable to kenny0325 on Venmo. This includes the treats\, T-shirt\, and the ride. We plan to do 18 miles thru Amish Country. \nPrice of admission goes toward environmental initiatives for this quaint little village. The Tour de Donut is a cherished New Wilmington tradition rooted in community\, friendly competition\, and small-town charm. Each year\, riders of all ages gather to pedal through scenic countryside roads\, stopping along the way to enjoy sweets from local establishments. The event blends fitness\, fun\, and camaraderie. \nClick “going” on the June 13th Facebook event if you can make it. It’s a must-attend! Hope to see you there!
URL:https://qburgh.com/event/lgbtq-group-doing-tour-de-donut-biking/
LOCATION:New Wilmington\, PA\, 319 S Market Street\, New Wilmington\, PA\, 16142\, United States
ATTACH;FMTTYPE=image/jpeg:https://qburgh.com/wp-content/uploads/2026/04/eating-donuts.jpg
ORGANIZER;CN="singlesoutpgh":MAILTO:singlesoutpgh@yahoo.com
END:VEVENT
END:VCALENDAR