BEGIN:VCALENDAR
VERSION:2.0
PRODID:-//QBurgh - ECPv6.15.20//NONSGML v1.0//EN
CALSCALE:GREGORIAN
METHOD:PUBLISH
X-WR-CALNAME:QBurgh
X-ORIGINAL-URL:https://qburgh.com
X-WR-CALDESC:Events for QBurgh
REFRESH-INTERVAL;VALUE=DURATION:PT1H
X-Robots-Tag:noindex
X-PUBLISHED-TTL:PT1H
BEGIN:VTIMEZONE
TZID:America/New_York
BEGIN:DAYLIGHT
TZOFFSETFROM:-0500
TZOFFSETTO:-0400
TZNAME:EDT
DTSTART:20250309T070000
END:DAYLIGHT
BEGIN:STANDARD
TZOFFSETFROM:-0400
TZOFFSETTO:-0500
TZNAME:EST
DTSTART:20251102T060000
END:STANDARD
BEGIN:DAYLIGHT
TZOFFSETFROM:-0500
TZOFFSETTO:-0400
TZNAME:EDT
DTSTART:20260308T070000
END:DAYLIGHT
BEGIN:STANDARD
TZOFFSETFROM:-0400
TZOFFSETTO:-0500
TZNAME:EST
DTSTART:20261101T060000
END:STANDARD
BEGIN:DAYLIGHT
TZOFFSETFROM:-0500
TZOFFSETTO:-0400
TZNAME:EDT
DTSTART:20270314T070000
END:DAYLIGHT
BEGIN:STANDARD
TZOFFSETFROM:-0400
TZOFFSETTO:-0500
TZNAME:EST
DTSTART:20271107T060000
END:STANDARD
END:VTIMEZONE
BEGIN:VEVENT
DTSTART;TZID=America/New_York:20260425T190000
DTEND;TZID=America/New_York:20260426T020000
DTSTAMP:20260421T191332
CREATED:20260401T001054Z
LAST-MODIFIED:20260401T001054Z
UID:106219-1777143600-1777168800@qburgh.com
SUMMARY:Lezzin' Out
DESCRIPTION:Are you tired of us yet? Bc you’re boutta be SICK OF US!! It’s time to get SILLY\, GOOFY\, maybe even a little HUMOROUS! We have some special guests from Huntington\, and all the way from Providence\, Rhode Island! And they’re ready to make you giggle ur tits off🤡 \nWith the world-famous squirt off\, butch and femme twerk contests\, and the SEXIEST CLOWN contest\, we’ve got plenty of fun for you and that clown car full of folks \nHosted by:\nSlurpe McQueen\nFontina Marie \nFeaturing:\nDilda D Dandridge\nKneela Wafer\nDJ Party Marty \nAnd from Providence RI:\nLulu Levity\nSilva \nSaturday\, April 25th\nDoors at 7pm\nDrag Race Viewing Party at 8pm\nShows at 11pm & 1am \nCover: $5 \nLezzin out is for ALL our divas\, dykes\, and dolls! 🧡🤍🩷✨🩷🤍🩵✨🩷💜💙
URL:https://qburgh.com/event/lezzin-out/
LOCATION:Babylon Nightclub\, 335 High Street\, Morgantown\, WV\, 26505\, United States
ATTACH;FMTTYPE=image/jpeg:https://qburgh.com/wp-content/uploads/2026/03/lezzin-out-april-25.jpg
ORGANIZER;CN="Babylon Nightclub":MAILTO:TrinasBoysLLC@gmail.com
END:VEVENT
END:VCALENDAR