BEGIN:VCALENDAR
VERSION:2.0
PRODID:-//QBurgh - ECPv6.15.20//NONSGML v1.0//EN
CALSCALE:GREGORIAN
METHOD:PUBLISH
X-WR-CALNAME:QBurgh
X-ORIGINAL-URL:https://qburgh.com
X-WR-CALDESC:Events for QBurgh
REFRESH-INTERVAL;VALUE=DURATION:PT1H
X-Robots-Tag:noindex
X-PUBLISHED-TTL:PT1H
BEGIN:VTIMEZONE
TZID:America/New_York
BEGIN:DAYLIGHT
TZOFFSETFROM:-0500
TZOFFSETTO:-0400
TZNAME:EDT
DTSTART:20250309T070000
END:DAYLIGHT
BEGIN:STANDARD
TZOFFSETFROM:-0400
TZOFFSETTO:-0500
TZNAME:EST
DTSTART:20251102T060000
END:STANDARD
BEGIN:DAYLIGHT
TZOFFSETFROM:-0500
TZOFFSETTO:-0400
TZNAME:EDT
DTSTART:20260308T070000
END:DAYLIGHT
BEGIN:STANDARD
TZOFFSETFROM:-0400
TZOFFSETTO:-0500
TZNAME:EST
DTSTART:20261101T060000
END:STANDARD
BEGIN:DAYLIGHT
TZOFFSETFROM:-0500
TZOFFSETTO:-0400
TZNAME:EDT
DTSTART:20270314T070000
END:DAYLIGHT
BEGIN:STANDARD
TZOFFSETFROM:-0400
TZOFFSETTO:-0500
TZNAME:EST
DTSTART:20271107T060000
END:STANDARD
END:VTIMEZONE
BEGIN:VEVENT
DTSTART;TZID=America/New_York:20260418T220000
DTEND;TZID=America/New_York:20260419T020000
DTSTAMP:20260421T191600
CREATED:20260410T232441Z
LAST-MODIFIED:20260410T232441Z
UID:106932-1776549600-1776564000@qburgh.com
SUMMARY:Leather & Fetish Night
DESCRIPTION:Fetish Night coming in hot! \nCome show off your freaky side with hot performances by Montaz\, Chewey\, Pup Paimon\, Cruzer\, and Amoxie Villain! \nDJ and host Danbear spinning tunes all night\, floggin demos\, drink specials\, you name it! \nCome let your freak out\, and as always\, ALL are welcome.
URL:https://qburgh.com/event/leather-fetish-night/
LOCATION:Brewer’s Bar\, 3315 Liberty Avenue\, Pittsburgh\, PA\, 15201\, United States
ATTACH;FMTTYPE=image/jpeg:https://qburgh.com/wp-content/uploads/2026/04/leather-fetish-nihgt-april-19.jpg
END:VEVENT
END:VCALENDAR