BEGIN:VCALENDAR
VERSION:2.0
PRODID:-//QBurgh - ECPv6.15.20//NONSGML v1.0//EN
CALSCALE:GREGORIAN
METHOD:PUBLISH
X-WR-CALNAME:QBurgh
X-ORIGINAL-URL:https://qburgh.com
X-WR-CALDESC:Events for QBurgh
REFRESH-INTERVAL;VALUE=DURATION:PT1H
X-Robots-Tag:noindex
X-PUBLISHED-TTL:PT1H
BEGIN:VTIMEZONE
TZID:America/New_York
BEGIN:DAYLIGHT
TZOFFSETFROM:-0500
TZOFFSETTO:-0400
TZNAME:EDT
DTSTART:20250309T070000
END:DAYLIGHT
BEGIN:STANDARD
TZOFFSETFROM:-0400
TZOFFSETTO:-0500
TZNAME:EST
DTSTART:20251102T060000
END:STANDARD
BEGIN:DAYLIGHT
TZOFFSETFROM:-0500
TZOFFSETTO:-0400
TZNAME:EDT
DTSTART:20260308T070000
END:DAYLIGHT
BEGIN:STANDARD
TZOFFSETFROM:-0400
TZOFFSETTO:-0500
TZNAME:EST
DTSTART:20261101T060000
END:STANDARD
BEGIN:DAYLIGHT
TZOFFSETFROM:-0500
TZOFFSETTO:-0400
TZNAME:EDT
DTSTART:20270314T070000
END:DAYLIGHT
BEGIN:STANDARD
TZOFFSETFROM:-0400
TZOFFSETTO:-0500
TZNAME:EST
DTSTART:20271107T060000
END:STANDARD
END:VTIMEZONE
BEGIN:VEVENT
DTSTART;TZID=America/New_York:20260425T100000
DTEND;TZID=America/New_York:20260425T110000
DTSTAMP:20260419T092757
CREATED:20260328T201350Z
LAST-MODIFIED:20260328T201350Z
UID:106127-1777111200-1777114800@qburgh.com
SUMMARY:Grounds for Discussion
DESCRIPTION:Sometimes\, all you need is a good group of people and some coffee talk. Let’s meet\, cat\, and enjoy a stroll through the garden. \nLocation: Cafe at the Frick\nDate: April 25\nTime: 10:00-11:00am \nRSVP: https://docs.google.com/forms/d/e/1FAIpQLSfRU4kRM8hfYmHFpwnAROeIZw4cth9272Uv0Bzp7ZLCX10fMg/viewform
URL:https://qburgh.com/event/grounds-for-discussion/
LOCATION:The Café at the Frick\, 727 Reynolds Street\, Pittsburgh\, PA\, 15208\, United States
ATTACH;FMTTYPE=image/jpeg:https://qburgh.com/wp-content/uploads/2026/03/hugh-lane-wellness-events-april-2026.jpg
END:VEVENT
END:VCALENDAR