BEGIN:VCALENDAR
VERSION:2.0
PRODID:-//QBurgh - ECPv6.15.20//NONSGML v1.0//EN
CALSCALE:GREGORIAN
METHOD:PUBLISH
X-WR-CALNAME:QBurgh
X-ORIGINAL-URL:https://qburgh.com
X-WR-CALDESC:Events for QBurgh
REFRESH-INTERVAL;VALUE=DURATION:PT1H
X-Robots-Tag:noindex
X-PUBLISHED-TTL:PT1H
BEGIN:VTIMEZONE
TZID:America/New_York
BEGIN:DAYLIGHT
TZOFFSETFROM:-0500
TZOFFSETTO:-0400
TZNAME:EDT
DTSTART:20250309T070000
END:DAYLIGHT
BEGIN:STANDARD
TZOFFSETFROM:-0400
TZOFFSETTO:-0500
TZNAME:EST
DTSTART:20251102T060000
END:STANDARD
BEGIN:DAYLIGHT
TZOFFSETFROM:-0500
TZOFFSETTO:-0400
TZNAME:EDT
DTSTART:20260308T070000
END:DAYLIGHT
BEGIN:STANDARD
TZOFFSETFROM:-0400
TZOFFSETTO:-0500
TZNAME:EST
DTSTART:20261101T060000
END:STANDARD
BEGIN:DAYLIGHT
TZOFFSETFROM:-0500
TZOFFSETTO:-0400
TZNAME:EDT
DTSTART:20270314T070000
END:DAYLIGHT
BEGIN:STANDARD
TZOFFSETFROM:-0400
TZOFFSETTO:-0500
TZNAME:EST
DTSTART:20271107T060000
END:STANDARD
END:VTIMEZONE
BEGIN:VEVENT
DTSTART;TZID=America/New_York:20260411T200000
DTEND;TZID=America/New_York:20260411T230000
DTSTAMP:20260421T190746
CREATED:20260402T233956Z
LAST-MODIFIED:20260411T003618Z
UID:106406-1775937600-1775948400@qburgh.com
SUMMARY:Dream Role Drag
DESCRIPTION:The show you’ve been waiting for is almost here! Come see our brilliant cast of performers in a whimsical\, musical drag performance unlike any other! Each performer will be doing two acts\, one a live musical number and one a traditional drag performance. \nHosted by Roary Storm and Ramona Ripley \nStarring:\nAndi Whorehol\nTheocracy\nMalacunt LaFoole\nSer Entity\nLand Shark\nMaxxx Massacre\nNova Illustraysha\nVictor Huge-O \nSong produced by DJ Faerie Fey \nDate: April 11\nPlace: Harold’s Haunt\nDoors: 7:30pm\nShow: 8:00pm\nTickets: $15 pre-sale $20 at door
URL:https://qburgh.com/event/dream-role-drag/
LOCATION:Harold’s Haunt\, 142 Grant Avenue\, Millvale\, PA\, 15209\, United States
ATTACH;FMTTYPE=image/jpeg:https://qburgh.com/wp-content/uploads/2026/04/dream-role-drag-cast-april-11.jpg
ORGANIZER;CN="Ramona Ripley":MAILTO:ramonapgh@gmail.com
END:VEVENT
END:VCALENDAR