BEGIN:VCALENDAR
VERSION:2.0
PRODID:-//QBurgh - ECPv6.15.20//NONSGML v1.0//EN
CALSCALE:GREGORIAN
METHOD:PUBLISH
X-WR-CALNAME:QBurgh
X-ORIGINAL-URL:https://qburgh.com
X-WR-CALDESC:Events for QBurgh
REFRESH-INTERVAL;VALUE=DURATION:PT1H
X-Robots-Tag:noindex
X-PUBLISHED-TTL:PT1H
BEGIN:VTIMEZONE
TZID:America/New_York
BEGIN:DAYLIGHT
TZOFFSETFROM:-0500
TZOFFSETTO:-0400
TZNAME:EDT
DTSTART:20250309T070000
END:DAYLIGHT
BEGIN:STANDARD
TZOFFSETFROM:-0400
TZOFFSETTO:-0500
TZNAME:EST
DTSTART:20251102T060000
END:STANDARD
BEGIN:DAYLIGHT
TZOFFSETFROM:-0500
TZOFFSETTO:-0400
TZNAME:EDT
DTSTART:20260308T070000
END:DAYLIGHT
BEGIN:STANDARD
TZOFFSETFROM:-0400
TZOFFSETTO:-0500
TZNAME:EST
DTSTART:20261101T060000
END:STANDARD
BEGIN:DAYLIGHT
TZOFFSETFROM:-0500
TZOFFSETTO:-0400
TZNAME:EDT
DTSTART:20270314T070000
END:DAYLIGHT
BEGIN:STANDARD
TZOFFSETFROM:-0400
TZOFFSETTO:-0500
TZNAME:EST
DTSTART:20271107T060000
END:STANDARD
END:VTIMEZONE
BEGIN:VEVENT
DTSTART;TZID=America/New_York:20260607T190000
DTEND;TZID=America/New_York:20260607T210000
DTSTAMP:20260421T210121
CREATED:20260416T231858Z
LAST-MODIFIED:20260416T231858Z
UID:107379-1780858800-1780866000@qburgh.com
SUMMARY:Drag & Dine at Trace Brewing
DESCRIPTION:Join Indi Skies for a delicious evening while you enjoy some of the best drag entertainment in the Burgh! \n\n\n\n\nDINNER TASTES BETTER WITH A SERVING OF DRAG!\nFill up with delicious eats and visual treats each month at Trace Brewing!\nDo you love trying new cuisine? Do you love drag entertainment from Pittsburgh’s FINEST queens\, kings\, and everything in between? Then this dinner show is FOR YOU!!! \n\nOrder yummy bites from STREETS ON THE FLY starting at 6 PM.\nGrab your seats and enjoy the show hosted by Indi Skies featuring amazing entertainers from the Pittsburgh area and BEYOND! The party officially starts at 7 PM.\n\nWe love to celebrate with you! Bring us everything from your birthday\, engagement\, bachelorette/bachelor parties\, and weddings! Don’t feel left out! We also host parties for divorces\, breakups\, new jobs\, and much more! There’s always a reason to celebrate! \nDon’t forget your cash to tip your entertainers! It’s the best way to interact and have even more fun with your evening! We will have change on site for larger bills available from your friendly beertender! \nOur evening concludes with photos with the cast to commemorate all the fun we’ve had! \nWe can’t wait to see you soon! \nReserved seating is available to purchase for individuals\, tables\, and large parties! Purchase all of your seats together for large parties — message us if you have any questions or requests. Your ticket includes access to the show. Food and Drink are available to purchase separately. \nFREE Street Parking. Must be 21+ to consume alcohol. MANY Non-Alcoholic Options. ALL AGES FRIENDLY!
URL:https://qburgh.com/event/drag-dine-at-trace-brewing-2/
LOCATION:Trace Brewing\, 4312 Main Street\, Pittsburgh\, PA\, 15224\, United States
ATTACH;FMTTYPE=image/webp:https://qburgh.com/wp-content/uploads/2026/04/drag-dine-apr-may-june.webp
END:VEVENT
END:VCALENDAR