BEGIN:VCALENDAR
VERSION:2.0
PRODID:-//QBurgh - ECPv6.15.20//NONSGML v1.0//EN
CALSCALE:GREGORIAN
METHOD:PUBLISH
X-WR-CALNAME:QBurgh
X-ORIGINAL-URL:https://qburgh.com
X-WR-CALDESC:Events for QBurgh
REFRESH-INTERVAL;VALUE=DURATION:PT1H
X-Robots-Tag:noindex
X-PUBLISHED-TTL:PT1H
BEGIN:VTIMEZONE
TZID:America/New_York
BEGIN:DAYLIGHT
TZOFFSETFROM:-0500
TZOFFSETTO:-0400
TZNAME:EDT
DTSTART:20250309T070000
END:DAYLIGHT
BEGIN:STANDARD
TZOFFSETFROM:-0400
TZOFFSETTO:-0500
TZNAME:EST
DTSTART:20251102T060000
END:STANDARD
BEGIN:DAYLIGHT
TZOFFSETFROM:-0500
TZOFFSETTO:-0400
TZNAME:EDT
DTSTART:20260308T070000
END:DAYLIGHT
BEGIN:STANDARD
TZOFFSETFROM:-0400
TZOFFSETTO:-0500
TZNAME:EST
DTSTART:20261101T060000
END:STANDARD
BEGIN:DAYLIGHT
TZOFFSETFROM:-0500
TZOFFSETTO:-0400
TZNAME:EDT
DTSTART:20270314T070000
END:DAYLIGHT
BEGIN:STANDARD
TZOFFSETFROM:-0400
TZOFFSETTO:-0500
TZNAME:EST
DTSTART:20271107T060000
END:STANDARD
END:VTIMEZONE
BEGIN:VEVENT
DTSTART;TZID=America/New_York:20260419T110000
DTEND;TZID=America/New_York:20260419T140000
DTSTAMP:20260421T191023
CREATED:20260416T013800Z
LAST-MODIFIED:20260416T013800Z
UID:107321-1776596400-1776607200@qburgh.com
SUMMARY:Disney Drag Brunch at Burgh'ers Brewing – Millvale
DESCRIPTION:CALLING ALL DISNEY FANS! Get ready to sing along to your FAVORITE SONGS ALL MORNING LONG! Join us Sunday\, April 19th at Burgh’ers in Millvale for a nostalgic brunch to feed your belly\, heart\, and soul! \n\n\n\n\nINDI SKIES is your host for a DRAG-TASTIC BRUNCH DISNEY STYLE! She’ll be joined by some of PITTSBURGH’S FINEST DRAG ENTERTAINERS for a FABULOUS MORNING of FUN! Join her every month for a fresh cast and delicious bites! \nFeaturing: ANDI WHOREHOL\, CABARETTA\, and INDIGO SPARKS \nSEATING begins at 11AM. ENTERTAINMENT starts at NOON! \nDon’t forget your tipping money and get ready for a good time honey! \nFood and beverages sold separately.
URL:https://qburgh.com/event/disney-drag-brunch-at-burghers-brewing-millvale/
LOCATION:Burgh’ers Brewing – Millvale\, 400 Grant Avenue\, Pittsburgh\, PA\, 15209\, United States
ATTACH;FMTTYPE=image/jpeg:https://qburgh.com/wp-content/uploads/2026/04/disney-drag-brunch-april-19.jpg
END:VEVENT
END:VCALENDAR