BEGIN:VCALENDAR
VERSION:2.0
PRODID:-//QBurgh - ECPv6.15.20//NONSGML v1.0//EN
CALSCALE:GREGORIAN
METHOD:PUBLISH
X-WR-CALNAME:QBurgh
X-ORIGINAL-URL:https://qburgh.com
X-WR-CALDESC:Events for QBurgh
REFRESH-INTERVAL;VALUE=DURATION:PT1H
X-Robots-Tag:noindex
X-PUBLISHED-TTL:PT1H
BEGIN:VTIMEZONE
TZID:America/New_York
BEGIN:DAYLIGHT
TZOFFSETFROM:-0500
TZOFFSETTO:-0400
TZNAME:EDT
DTSTART:20250309T070000
END:DAYLIGHT
BEGIN:STANDARD
TZOFFSETFROM:-0400
TZOFFSETTO:-0500
TZNAME:EST
DTSTART:20251102T060000
END:STANDARD
BEGIN:DAYLIGHT
TZOFFSETFROM:-0500
TZOFFSETTO:-0400
TZNAME:EDT
DTSTART:20260308T070000
END:DAYLIGHT
BEGIN:STANDARD
TZOFFSETFROM:-0400
TZOFFSETTO:-0500
TZNAME:EST
DTSTART:20261101T060000
END:STANDARD
BEGIN:DAYLIGHT
TZOFFSETFROM:-0500
TZOFFSETTO:-0400
TZNAME:EDT
DTSTART:20270314T070000
END:DAYLIGHT
BEGIN:STANDARD
TZOFFSETFROM:-0400
TZOFFSETTO:-0500
TZNAME:EST
DTSTART:20271107T060000
END:STANDARD
END:VTIMEZONE
BEGIN:VEVENT
DTSTART;TZID=America/New_York:20261227T170000
DTEND;TZID=America/New_York:20261227T190000
DTSTAMP:20260422T003013
CREATED:20260105T024559Z
LAST-MODIFIED:20260105T024559Z
UID:10021233-1798390800-1798398000@qburgh.com
SUMMARY:ANDI-OKE
DESCRIPTION:Karaoke with Andi Whorehol is one of the best karaokes ever??? Join us every 2nd & 4th Sunday around 5pm for a good fun time singing silly songs. Serious songs are fine too\, probably.
URL:https://qburgh.com/event/andi-oke-4/2026-12-27/
LOCATION:Harold’s Haunt\, 142 Grant Avenue\, Millvale\, PA\, 15209\, United States
ORGANIZER;CN="Millvale's Queer Witches":MAILTO:maudespaperwinggallery@gmail.com
END:VEVENT
END:VCALENDAR