BEGIN:VCALENDAR
VERSION:2.0
PRODID:-//QBurgh - ECPv6.15.20//NONSGML v1.0//EN
CALSCALE:GREGORIAN
METHOD:PUBLISH
X-WR-CALNAME:QBurgh
X-ORIGINAL-URL:https://qburgh.com
X-WR-CALDESC:Events for QBurgh
REFRESH-INTERVAL;VALUE=DURATION:PT1H
X-Robots-Tag:noindex
X-PUBLISHED-TTL:PT1H
BEGIN:VTIMEZONE
TZID:America/New_York
BEGIN:DAYLIGHT
TZOFFSETFROM:-0500
TZOFFSETTO:-0400
TZNAME:EDT
DTSTART:20250309T070000
END:DAYLIGHT
BEGIN:STANDARD
TZOFFSETFROM:-0400
TZOFFSETTO:-0500
TZNAME:EST
DTSTART:20251102T060000
END:STANDARD
BEGIN:DAYLIGHT
TZOFFSETFROM:-0500
TZOFFSETTO:-0400
TZNAME:EDT
DTSTART:20260308T070000
END:DAYLIGHT
BEGIN:STANDARD
TZOFFSETFROM:-0400
TZOFFSETTO:-0500
TZNAME:EST
DTSTART:20261101T060000
END:STANDARD
BEGIN:DAYLIGHT
TZOFFSETFROM:-0500
TZOFFSETTO:-0400
TZNAME:EDT
DTSTART:20270314T070000
END:DAYLIGHT
BEGIN:STANDARD
TZOFFSETFROM:-0400
TZOFFSETTO:-0500
TZNAME:EST
DTSTART:20271107T060000
END:STANDARD
END:VTIMEZONE
BEGIN:VEVENT
DTSTART;TZID=America/New_York:20260420T190000
DTEND;TZID=America/New_York:20260420T210000
DTSTAMP:20260421T190922
CREATED:20260416T231452Z
LAST-MODIFIED:20260416T231452Z
UID:107372-1776711600-1776718800@qburgh.com
SUMMARY:4/20 Music Bingo
DESCRIPTION:From Snoop Dogg to Willie Nelson\, we’re rolling up with all the artists that make 4/20 the holiday to CELEBRATE! \n\n\n\n\nDon’t be a BURN OUT! Catch a vibe and WIN A PRIZE at a smokin’ night of MUSIC BINGO with your friends from TRACE BREWING! This will be a party you won’t want to PUFF\, PUFF\, PASS on!\nSeating starts at 6pm! Grab some nummy grub from the crew at COLD FRIEND’S KITCHEN and get ready to jam to the deepest hits from the 60’s to today! \nGames will start at 7pm with a chance to win some SUPER DOPE PRIZES! \nDEAD HEADS and SATIVA DIVAS REJOICE! Trace has delish brew and sips to cure the most severe cottonmouth & coffee options if you need to come back down to earth! \nJOIN THE SESH! $10 each player to save your seat. Tables for 2+ guests are available! Large parties welcome! \nNEVER PARK ON THE GRASS when there’s FREE STREET PARKING! 21+ to consume alcohol. MANY Non-alcoholic options to choose from!
URL:https://qburgh.com/event/420-music-bingo/
LOCATION:Trace Brewing\, 4312 Main Street\, Pittsburgh\, PA\, 15224\, United States
ATTACH;FMTTYPE=image/jpeg:https://qburgh.com/wp-content/uploads/2026/04/420-music-bingo.jpg
END:VEVENT
END:VCALENDAR