BEGIN:VCALENDAR
VERSION:2.0
PRODID:-//QBurgh - ECPv6.15.20//NONSGML v1.0//EN
CALSCALE:GREGORIAN
METHOD:PUBLISH
X-WR-CALNAME:QBurgh
X-ORIGINAL-URL:https://qburgh.com
X-WR-CALDESC:Events for QBurgh
REFRESH-INTERVAL;VALUE=DURATION:PT1H
X-Robots-Tag:noindex
X-PUBLISHED-TTL:PT1H
BEGIN:VTIMEZONE
TZID:America/New_York
BEGIN:DAYLIGHT
TZOFFSETFROM:-0500
TZOFFSETTO:-0400
TZNAME:EDT
DTSTART:20250309T070000
END:DAYLIGHT
BEGIN:STANDARD
TZOFFSETFROM:-0400
TZOFFSETTO:-0500
TZNAME:EST
DTSTART:20251102T060000
END:STANDARD
BEGIN:DAYLIGHT
TZOFFSETFROM:-0500
TZOFFSETTO:-0400
TZNAME:EDT
DTSTART:20260308T070000
END:DAYLIGHT
BEGIN:STANDARD
TZOFFSETFROM:-0400
TZOFFSETTO:-0500
TZNAME:EST
DTSTART:20261101T060000
END:STANDARD
BEGIN:DAYLIGHT
TZOFFSETFROM:-0500
TZOFFSETTO:-0400
TZNAME:EDT
DTSTART:20270314T070000
END:DAYLIGHT
BEGIN:STANDARD
TZOFFSETFROM:-0400
TZOFFSETTO:-0500
TZNAME:EST
DTSTART:20271107T060000
END:STANDARD
END:VTIMEZONE
BEGIN:VEVENT
DTSTART;TZID=America/New_York:20260524T130000
DTEND;TZID=America/New_York:20260524T190000
DTSTAMP:20260423T133826
CREATED:20260420T223751Z
LAST-MODIFIED:20260420T224511Z
UID:107595-1779627600-1779649200@qburgh.com
SUMMARY:2026 Bigger Gayer PicniQ
DESCRIPTION:Join us for an exceptional Memorial Day weekend at our THIRD ANNUAL BIGGER GAYER PICNIQ on Sunday\, May 24\, 2026\, from 1 PM to 7 PM inside the park at 810 Arch St.\, Pittsburgh\, PA 15212. We guarantee an unforgettable experience as your admission provides access to a delightful picnic buffet showcasing an array of options\, including vegan options\, as well as a phenomenal drag extravaganza at 4pm. Quench your thirst at our bars\, offering a selection of your favorite cocktails\, beers\, and seltzers. Complimentary soft drinks and water will also be readily available. \nPlease bear in mind to consume responsibly and ensure a safe journey home—never drink and drive. \nLet’s come together to make this Memorial Day weekend truly special! \nMUST BE 18+ TO ATTEND / 21+ TO DRINK. MUST HAVE PROPER ID TO ATTEND.\nNO OUTSIDE LIQUOR OR BEER IS PERMITTED AT THIS EVENT
URL:https://qburgh.com/event/2026-bigger-gayer-picniq/
LOCATION:Allegheny 6-8 Training Academy\, 810 Arch Street\, Pittsburgh\, PA\, 15212\, United States
ATTACH;FMTTYPE=image/png:https://qburgh.com/wp-content/uploads/2026/04/2026-bigger-gayer-picniq-1.png
ORGANIZER;CN="Pittsburgh Pride":MAILTO:info@lgbtqpittsburgh.com
END:VEVENT
END:VCALENDAR